BEGIN:VCALENDAR
PRODID:-//eluceo/ical//2.0/EN
VERSION:2.0
CALSCALE:GREGORIAN
BEGIN:VEVENT
UID:7370b04c6441787ba39c70f3fd9bccbb
DTSTAMP:20260423T150246Z
SUMMARY:Aktuální exportní příležitosti v Latinské Americe
DESCRIPTION:Název akce: Aktuální exportní příležitosti v Latinské A
 merice\nURL: https://www.spcr.cz/aktualni-exportni-prilezitosti-v-latinske
 -americe\nPopis: \n\nAKTUÁLNÍ EXPORTNÍ PŘÍLEŽITOSTI V LATINSKÉ AMER
 ICE: Chile\, Brazílie\, Peru\, Mexiko a Střední Amerika\, KolumbieProgr
 am konference:(Registrace od 12.30 do 13.00 hodin)13.00 – 14:45 Chile\, 
 Brazílie\, Peru\, Mexiko a Střední Amerika\, KolumbieAktuální situace
  na tamních trzíchDlouhodobě perspektivní oboryPříležitosti pro če
 ský export v současné politické a ekonomické situaciOptimální formy
  vstupu na dané trhy\, možnosti spoluprácePlánované veletrhy a mise 
 českých podnikatelů\, služby CzechTrade pro české exportéryOtázky 
 & Diskuse\nOd 14:45\nINDIVIDUÁLNÍ KONZULTACE s řediteli zahraničních 
 kanceláří v Chile\, Brazílii a Peru\nVíce informací a registrace\n
URL:https://www.spcr.cz/aktualni-exportni-prilezitosti-v-latinske-americe
DTSTART:20220920T130000
DTEND:20220920T160000
LOCATION:
END:VEVENT
END:VCALENDAR
