BEGIN:VCALENDAR
PRODID:-//eluceo/ical//2.0/EN
VERSION:2.0
CALSCALE:GREGORIAN
BEGIN:VEVENT
UID:365bc7dddac9c0ad60bd33b4cd61d535
DTSTAMP:20260423T150052Z
SUMMARY:Tech Opportunities in India
DESCRIPTION:Název akce: Tech Opportunities in India\nURL: https://www.spcr
 .cz/tech-opportunities-india\nPopis: \n\nLearn About Tech Opportunities in
  India\nAugust 25 | 11:00 a.m. ET | Virtual \nJoin the U.S. Commercial Se
 rvice for a LIVE "coffee chat" to learn how you can succeed in the India m
 arket.\nHear from trade experts and two U.S. companies already doing busin
 ess in India\, who will share market observations\, evolving business oppo
 rtunities and challenges/opportunities when doing business in India. Learn
  practical tips about how to work with our numerous resources to successfu
 lly enter or expand into this vibrant market. \nAsk questions directly du
 ring this interactive virtual event\, and gather information directly from
  successful exporters\, U.S. Commercial Service U.S. and in-country India 
 experts\, and representatives of several trade support organizations. \nR
 egister today and learn about:\n\nTrade promotion events and virtual progr
 ams\nU.S. Commercial Service programs and services\nIn-country assistance 
 available to U.S. companies in the U.S. & India\nPartnering with engineeri
 ng and other types of companies in India\n\n\n\n\n\n\n\n\n\nRegister\n\n\n
 \n\n\n\n\n\nQuestions about the event? Contact Jigna.mehta@trade.gov\nThe
  U.S. Commercial Service is the trade promotion arm of the U.S. Department
  of Commerce's International Trade Administration. U.S. Commercial Service
  trade professionals in over 100 U.S. cities and in more than 75 markets  
 help U.S. companies get started in exporting or increase sales to global m
 arkets.\n
URL:https://www.spcr.cz/tech-opportunities-india
DTSTART:20220825T110000
DTEND:20220825T235959
LOCATION:
END:VEVENT
END:VCALENDAR
