BEGIN:VCALENDAR
PRODID:-//eluceo/ical//2.0/EN
VERSION:2.0
CALSCALE:GREGORIAN
BEGIN:VEVENT
UID:215bdaaa44e9d61a25c3810d43493de7
DTSTAMP:20260423T163118Z
SUMMARY:Obchodní mise v oblasti vodohospodářství do Alžírska
DESCRIPTION:Název akce: Obchodní mise v oblasti vodohospodářství do Al
 žírska\nURL: https://www.spcr.cz/obchodni-mise-v-oblasti-vodohospodarstv
 i-do-alzirska\nPopis: \n\nObchodní mise v oblastí vodohospodářství do
  Alžírska jse realizuje jako projekt ekonomické diplomacie pro rozvoj 
 česko-alžírské spolupráce ve vodohospodářství ve formě obchodní 
 mise představitelů českých firem a institucí v oblasti vodohospodář
 ství  s cílem oslovení relevantních alžírských partnerů a výhled
 em na získání komerčních příležitostí. \n\nMise byla přeložen
 á a aktuální datum mise je 19.-22. 9. 2022. \nRádi bychom kromě pře
 dstavitelů soukromých firem\, zástupců státních institucí a univerz
 it pozvali i představitele státních podniků v tak rozmanitých oborech
  jako je ochrana vodních zdrojů\, distribuce vody\, ale například i č
 ištění a využití odpadní vody.Předběžný program mise:19. 9. př
 ílet představitelů českých firem do Alžíru20. 9. -21. 9. jednání 
 na Ministerstvu vodohospodářství\, jednání s národními agenturami (
 Národní agentuře pro sanaci vody v Alžíru - SEAAL\, Národním úřad
 u pro Sanace - ONA)\, společenský večer na Zastupitelském úřadě s 
 účastí zástupců soukromého a veřejného sektoru22. 9. jednání s a
 lžírskými firmami z oboru22. 9. večer/23. 6. návrat do ČRAmbasáda t
 aké zajistí společnou dopravu z ambasády na jednání\, případně na
  další společné akce a aktivity v programu projektu a společenskou ak
 ci na ambasádě. Účastníci si hradí sami dopravu z ČR do Alžíru\, 
 ubytování v Alžíru a samostatné cesty po Alžíru\, případně dalš
 í osobní výdaje.Chtěli bychom požádat o potvrzení účasti předsta
 vitelů českých firem nejpozději do 31. 8. 2022 na emailovou adresu pa
 vel_zastera@mzv.cz a v kopii na kontakt nina_stredel@mzv.cz. Chtěli by
 chom zároveň zájemce o účast na projektu informovat\, že je třeba p
 odat žádost o vízum na ambasádě Alžírska v Praze minimálně 14 dn
 í před příletem do Alžírska. Detailnější informace včas zašleme
  nahlášeným účastníkům.Níže naleznete krátký popis alžírskéh
 o vodohospodářského průmyslu a plánovaných projektů.Vodohospodářs
 ký_a_odpadní_průmysl_Alžírska.pdfV případě dalších dotazů nevá
 hajte kontaktovat ekonomického konzula české ambasády v Alžírsku\, p
 ána Pavla Zástěru\, pavel_zastera@mzv.cz\n
URL:https://www.spcr.cz/obchodni-mise-v-oblasti-vodohospodarstvi-do-alzirsk
 a
DTSTART:20220919T080000
DTEND:20220922T170000
LOCATION:
END:VEVENT
END:VCALENDAR
