BEGIN:VCALENDAR
PRODID:-//eluceo/ical//2.0/EN
VERSION:2.0
CALSCALE:GREGORIAN
BEGIN:VEVENT
UID:fb5be4fb921243f4c5df08f522e88584
DTSTAMP:20260423T125013Z
SUMMARY:Moldova Business Week 2022
DESCRIPTION:Název akce: Moldova Business Week 2022\nURL: https://www.spcr.
 cz/moldova-business-week-2022\nPopis: \n\nVe dnech 15.-16. září 2022 se
  uskuteční Moldova Business Week 2022 (v Kišiněvě a také v hybridní
 m formátu)\, které je největší národní ekonomickou platformou pro 
 zkoumání investičních\, obchodních a ekonomických příležitostí M
 oldavské republiky.\n\nAktuální ročník Moldova Business Week 2022 je
  nazvaný „Moldavsko – relokační destinace a řešení pro regioná
 lní dodavatelský řetězec“ a poskytne hlavní prostor pro setkání m
 ístních a mezinárodních činitelů s rozhodovací pravomocí\, stejně
  jako odborníků z tuzemska i ze zahraničí s cílem identifikovat nejle
 pší příležitosti a řešení přizpůsobená aktuálním mezinárodn
 ím okolnostem.Moldavská republika prokázala maximální flexibilitu a s
 chopnost přizpůsobit se novému kontextu zavedením řady vnímavých po
 litik založených na nových informacích\, které rychle reagují na pot
 řeby podnikatelského prostředí a zejména investorů.V tomto ohledu by
 chom rádi vyzvali české podniky\, aby se akce zúčastnily a zjistily\,
  proč se Moldavsko může stát relokační destinací a řešením pro r
 egionální dodavatelské řetězce!V oznamu níže naleznete také formá
 lní pozvánku generálního ředitele agentury Invest Moldova\, pana Stel
 iana Maniče.Invitation_MBW_Eng.semnat.pdf\nÚčastníci se mohou registro
 vat na následující adrese: registraceVíce informací včetně návrhu 
 programu jednání naleznete na - Moldova Business Week 2022 a Moldova Bus
 iness Week 2022 - Facebook Event\nV případě potřeby nebo dotazů nevá
 hejte kontaktovat konzula z ambasády Moldavské republiky v Praze\, pána
  Vasile Chitiia: vasile.chitii@mfa.gov.md\n
URL:https://www.spcr.cz/moldova-business-week-2022
DTSTART:20220915T110000
DTEND:20220916T170000
LOCATION:
END:VEVENT
END:VCALENDAR
