BEGIN:VCALENDAR
PRODID:-//eluceo/ical//2.0/EN
VERSION:2.0
CALSCALE:GREGORIAN
BEGIN:VEVENT
UID:4f28c3dab7b23d263787bac2ccde6faf
DTSTAMP:20260423T162951Z
SUMMARY:Sourcing Taiwan 2022-ICT - Smart City - Wearable Devices
DESCRIPTION:Název akce: Sourcing Taiwan 2022-ICT - Smart City - Wearable D
 evices\nURL: https://www.spcr.cz/sourcing-taiwan-2022-ict-smart-city-weara
 ble-devices-0\nPopis: \n\nSourcing Taiwan 2022-ICT x Smart City x Wearable
  Devices is organized by the Bureau of Foreign Trade (BOFT) and the Taiwan
  External Trade Development Council (TAITRA)\, and aims to serve as a trad
 e link between global buyers and top-rated Taiwanese suppliers. This will 
 be the first series of hybrid (physical & virtual) sourcing activities hel
 d by BOFT and TAITRA during the Post-pandemic era\; another sourcing event
  will take place in November and will focus on electric vehicles\, infrast
 ructure\, Metaverse\, etc.\nThis event will focus on ICT\, Smart City\, We
 arable Devices\, Fasteners\, Smart Manufacturing\, Smart Life\, Consumer E
 lectronics\, Auto Parts\, etc. and aims to create business opportunities f
 or buyers worldwide with businesses in Taiwan from the following sectors:\
 n\nICT Industries: including ICT manufacturing equipment\, electronic comp
 onents\, communication products\, etc.\nSmart City: system integrators\, s
 mart transportation\, smart parking\, smart building\, smart retail\, etc.
 \nWearable Devices: Mobile handheld devices\, wearable devices\, smart ear
 phones\, etc.\nOthers: Fasteners\, Smart Manufacturing\, Smart Life\, Cons
 umer Electronics\, Auto parts\, etc.\n\nFor registration\, please fill in 
 the form in the link below and send it to czech@moea.gov.tw or cztwec01
 @moea.org.tw .Company_Profile_Sourcing_Taiwan_2022.docx\nFor further info
 rmation\, please feel free to contact:Ms. Tereza ŠafářováEconomic Divi
 sionTaipei Economic and Cultural Office\, PragueTel.: (+420) 234 722 021\n
URL:https://www.spcr.cz/sourcing-taiwan-2022-ict-smart-city-wearable-device
 s-0
DTSTART:20220921T000000
DTEND:20220921T235959
LOCATION:
END:VEVENT
END:VCALENDAR
