BEGIN:VCALENDAR
PRODID:-//eluceo/ical//2.0/EN
VERSION:2.0
CALSCALE:GREGORIAN
BEGIN:VEVENT
UID:7b6c092a4be0716d49b450308ee7df4b
DTSTAMP:20260423T163341Z
SUMMARY:Taiwan International Water Week 
DESCRIPTION:Název akce: Taiwan International Water Week \nURL: https://www
 .spcr.cz/taiwan-international-water-week-0\nPopis: \n\nTaipei Economic and
  Cultural Office in Prague would like to inform about Taiwan Internationa
 l Water Week that will be held in Taipei from 13th to 15th October\, 20
 22.\nThis international professional B2B exhibition in Taiwan provides an 
 excellent and diverse platform by bringing together buyers\, experts\, man
 ufacturers\, service providers and practitioners from the global water ind
 ustry. It provides the opportunity to share the best innovative water solu
 tions\, showcase the latest technologies and tap business opportunities. P
 lease refer to the tradeshow website below:\nhttps://www.taiwanintlwaterwe
 ek.com/en/index.html\nTo encourage higher participation at this event\, TE
 CO is offering an incentive that covers air tickets or accommodation depen
 ding on the annual sales of the company. \nPlease fill in this form and
  send it to czech@moea.gov.tw or cztwec01@moea.org.tw for the incentiv
 e application.\nFor further information\, please feel free to contact:Ms. 
 Tereza ŠafářováEconomic DivisionTaipei Economic and Cultural Office\, 
 PragueTel.: (+420) 234 722 021\n
URL:https://www.spcr.cz/taiwan-international-water-week-0
DTSTART:20221013T000000
DTEND:20221015T235959
LOCATION:
END:VEVENT
END:VCALENDAR
