BEGIN:VCALENDAR
PRODID:-//eluceo/ical//2.0/EN
VERSION:2.0
CALSCALE:GREGORIAN
BEGIN:VEVENT
UID:451c60eb2a4decf150b1280989e1419c
DTSTAMP:20260423T212916Z
SUMMARY:China International Fair for Trade in Services 2022
DESCRIPTION:Název akce: China International Fair for Trade in Services 202
 2\nURL: https://www.spcr.cz/china-international-fair-trade-services-2022\n
 Popis: \n\nTo further improve the pragmatic exchanges and cooperation in t
 rade in services between CEE Countries and China\, the organizors sincerel
 y invite your side to participate in the 2022 China International Fair for
  Trade in Services (CIFTIS).\nThe event is organized by The Ministry of C
 ommerce of the People's Republic of China and People's Government of Beij
 ing Municipality. \n \nContact person: \nJune DONGTel: 0086-10-88070323
 Internatinonal Relations DepartmentChina Council for the Promotion of Inte
 rnational Trade Beijing Subcouncil\n
URL:https://www.spcr.cz/china-international-fair-trade-services-2022
DTSTART:20220831T080000
DTEND:20220905T170000
LOCATION:
END:VEVENT
END:VCALENDAR
