BEGIN:VCALENDAR
PRODID:-//eluceo/ical//2.0/EN
VERSION:2.0
CALSCALE:GREGORIAN
BEGIN:VEVENT
UID:05a4a0113a93d16c886c900186030abb
DTSTAMP:20260423T213611Z
SUMMARY:Seminář zaměřený na téma konektivity v Kuala Lumpur
DESCRIPTION:Název akce: Seminář zaměřený na téma konektivity v Kuala
  Lumpur\nURL: https://www.spcr.cz/seminar-zamereny-na-tema-konektivity-v-k
 uala-lumpur\nPopis: \n\nVelvyslanectví ČR v Kuala Lumpur organizuje spol
 ečně s Delegací Evropské unie jako stěžejní akci v rámci předsedn
 ictví České republiky v Radě Evropské unie. Seminář je zaměřený 
 na téma konektivity a přináší příležitost pro celou řadu účastn
 íků z oblasti energetiky\, digitální ekonomiky\, dopravy\, infrastrukt
 ury\, turismu a cestovního ruchu\, vědy a výzkumu\, školství a dalš
 ích. Seminář se uskuteční fyzicky v Kuala Lumpur v pátek 14. října
  2022 od 10 hodin a pro české účastníky je zdarma.  Podrobnější i
 nformace a akviziční link na webu velvyslanectví zde: https://www.mzv.
 cz/kualalumpur/cz/obchod_a_ekonomika/seminar_ke_konektivite_vyzva_k_ucasti
 .html anebo na Facebookovém profilu - https://www.facebook.com/czech.emba
 ssy.kuala.lumpur/photos/a.113395247897051/160527136517195/\nKontakt:Milan 
 Dostál  Obchodně - ekonomický rada  Commercial Economic CounsellorVelvy
 slanectví České republiky v Kuala Lumpur  Embassy of the Czech Republic
  in Kuala Lumpur 42/B The Intermark Vista Tower  348 Jalan Tun Razak  5040
 0 Kuala Lumpur\, MalaysiaTel.:  +603 - 2166 1900/2900 (Embassy)  Email: M
 ilan_Dostal@mzv.cz  Web: www.mzv.cz/kualalumpur  Facebook: https://www.fac
 ebook.com/czech.embassy.kuala.lumpur  Twitter: https://twitter.com/CZEmbas
 syKL  \n
URL:https://www.spcr.cz/seminar-zamereny-na-tema-konektivity-v-kuala-lumpur
DTSTART:20221014T100000
DTEND:20221014T140000
LOCATION:
END:VEVENT
END:VCALENDAR
