BEGIN:VCALENDAR
PRODID:-//eluceo/ical//2.0/EN
VERSION:2.0
CALSCALE:GREGORIAN
BEGIN:VEVENT
UID:8dce23a5f6937edeb038de0a844d9b0a
DTSTAMP:20260423T145939Z
SUMMARY:Mezinárodní veletrh FIHAV na Kubě - česká oficiální účast
DESCRIPTION:Název akce: Mezinárodní veletrh FIHAV na Kubě - česká ofi
 ciální účast\nURL: https://www.spcr.cz/mezinarodni-veletrh-fihav-na-ku
 be-ceska-oficialni-ucast\nPopis: \n\nVeletrh FIHAV se koná ve dnech 14. 
 - 18. listopadu 2022 v prostorách veletržního areálu ExpoCuba v Havan
 ě\, kde se v 25 pavilonech představí řada vystavovatelů z Kuby a ze
  zahraničí. Veletrh se bude konat po dvouleté pauze\, kdy nebylo možn
 é ho z důvodu pandemie uspořádat.   Tradiční kubánský veletrh FI
 HAV je nepochybně jednou z největších obchodních událostí a příl
 ežitostí pro české exportéry nejen na Kubě\, ale i v Latinské Amer
 ice. Účastníci veletrhu budou mít příležitost navázat a rozvíjet 
 obchodní kontakty\, vést obchodní jednání\, účastnit se seminářů
  a konferencí. Součástí veletrhu FIHAV 2022 má být 5. ročník Inves
 tičního fóra\, v rámci kterého budou představeny aktuální investi
 ční příležitosti na Kubě a proběhnou bilaterální jednání. Více
  o veletrhu\nV případě zájmu o účast vyplňte prosím přihlášku 
 a pošlete na e-mail janecky@mpo.cz. Přihlášky prosíme zaslat co nejd
 říve. Pro více informací prosím kontaktujte pana Vlastimila Janecké
 ho\, Oddělení řízení programů exportu\, průřezových a specializov
 aných exportních služeb\, tel.: +420 224 852 781\, janecky@mpo.cz.  
  Podmínky účasti na akci a jejich příloha pro Vaši informaci.  Včas
 né projevení zájmu firem je podmínkou konání české oficiální ú
 časti.\n
URL:https://www.spcr.cz/mezinarodni-veletrh-fihav-na-kube-ceska-oficialni-u
 cast
DTSTART:20221114T000000
DTEND:20221118T235959
LOCATION:
END:VEVENT
END:VCALENDAR
