BEGIN:VCALENDAR
PRODID:-//eluceo/ical//2.0/EN
VERSION:2.0
CALSCALE:GREGORIAN
BEGIN:VEVENT
UID:7447fa5f00d7f81631c79ead8fe27174
DTSTAMP:20260423T125530Z
SUMMARY:Bagdádský mezinárodní veletrh - česká oficiální účast
DESCRIPTION:Název akce: Bagdádský mezinárodní veletrh - česká ofici
 ální účast\nURL: https://www.spcr.cz/bagdadsky-mezinarodni-veletrh-ces
 ka-oficialni-ucast\nPopis: \n\n46. ročník Bagdádského mezinárodního 
 veletrhu se uskuteční ve dnech 1. až 10. listopadu 2022 na výstavišt
 i v Bagdádu. Jedná se o nejdůležitější veletrh v Iráku\, o čem
 ž svědčí i údaje z roku 2018 – počet vystavovatelů přes 400 ze 
 17 zemí\, obsazená výstavní plocha 18.500 m2 a 245.000 návštěvník
 ů. Letos lze očekávat ještě vyšší počty a zájem. Tento veletrh 
 se konal naposledy v r. 2018\, v následujících letech nebyl z důvodu
  covidové pandemie pořádán.  Veletrh bude zaměřen na tradiční obor
 y\, které jsou pro projekty rekonstrukce a obnovy Iráku nezbytné\, a do
  kterých se již zapojily nebo hodlají zapojit i české subjekty – en
 ergetika\, těžba a zpracování ropy a plynu\, vodní hospodářství\, 
 ekologie\, infrastruktura\, zdravotnictví\, zemědělství\, stavebnictv
 í\, školství\, IT a telekomunikace\, turistika\, bankovnictví a pojiš
 ťovnictví\, spotřební průmysl atd.\nV případě zájmu o účast vy
 plňte prosím přihlášku a pošlete na e-mail janecky@mpo.cz. Přihlá
 šky prosíme zaslat co nejdříve. Pro více informací prosím kontaktu
 jte pana Vlastimila Janeckého\, Oddělení řízení programů exportu\, 
 průřezových a specializovaných exportních služeb\, tel.: +420 224 8
 52 781\, janecky@mpo.cz.   Podmínky účasti na akci a jejich příloha
  pro Vaši informaci.  Včasné projevení zájmu firem je podmínkou kon
 ání české oficiální účasti.\n
URL:https://www.spcr.cz/bagdadsky-mezinarodni-veletrh-ceska-oficialni-ucast
DTSTART:20221101T000000
DTEND:20221110T235959
LOCATION:
END:VEVENT
END:VCALENDAR
