BEGIN:VCALENDAR
PRODID:-//eluceo/ical//2.0/EN
VERSION:2.0
CALSCALE:GREGORIAN
BEGIN:VEVENT
UID:6c3502161e5d9d35cf541ca6feb8e019
DTSTAMP:20260423T150323Z
SUMMARY:India Electornics Expo
DESCRIPTION:Název akce: India Electornics Expo\nURL: https://www.spcr.cz/i
 ndia-electornics-expo\nPopis: \n\nS ohledem na zpětnou vazbu od několika
  účastníků a pro poskytnutí širšího prostoru pro hostující deleg
 áty bylo rozhodnuto přeplánovat výstavu INDIA ELECTRONICS EXPO (INDEE)
  - mezinárodní B2B jednání - z listopadového termínu na březen\, k
 terá se nyní bude konat společně s několika dalšími událostmi zam
 ěřenými na technologie. Událost se nyní bude konat zároveň se dvěm
 a novými událostmi konkrétně INDIASOFT 2023 a CONVERGENCE INDIA 2023\,
  od 27. do 29. března 2023 na Pragati Maidan\, Nové Dillí.  Očekává
  se \, že nové místo konání akce spolu s dalšími dvěma předními 
 technickými přehlídkami bude mít přidanou hodnotu pro návštěvníky
  a hostující delegáty a taky lepší odezvu pro samotnou událost.\nLet
 ák s podrobnostmi o přeplánované akci najdete zde.\nZájemci o výstav
 u resp. zástupci jednotlivých společností se registrují vyplněním 
 žádosti odkaz na stažení formuláře vpravo. Všechny řádně vyplně
 né formuláře mohou být zaslány  nejlépe do 30. listopadu 2022.\nEle
 ctronics and Computer Software Export Promotion Council (ESC) will be orga
 nizing INDIA ELECTRONICS EXPO (INDEE)\, an international B2B Networking Me
 et. India’s top electronics products and IoT companies will be displayin
 g their products\, capabilities\, and innovations being made in India in t
 he electronics and IoT sector. This will be a unique Reverse Buyer Seller 
 Meet (RBSM) for the electronics hardware and IoT industry.   Being the on
 ly event of its kind in India\, INDEE is being supported by the Ministry o
 f Commerce & Industry\, Government of India.    This strategic initiative
  will be the most valuable platform for the global electronics industry to
  witness and source specialized technologically sound products ranging fro
 m\n\nFinished products\n\nConsumer \nTelecom\nInstruments\, Office equipm
 ent\, Medical instruments\nComputer hardware etc.\,\nSolar\nPower Electron
 ics\n\nElectronic components\n\nActive \nPassive\nSemiconductors\nInterco
 nnection etc.\, \n\nElectronics Technologies \n\nDrones\nIoT \nSmart Ci
 ties\n\nand the entire value-added chain of the electronics industry to be
  presented.    More details can be accessed from the website   www.indi
 aelectronicsexpo.com     The global buyers during their visit to India c
 an interact with the participating Indian Electronics and IoT industry whi
 ch can pave the path to witness innovations\, value additions offered by I
 ndian intellectual minds of Electronics Hardware entrepreneurs and strike 
 meaningful business deals leading to create WIN-WIN synergy for the overal
 l growth of the enterprises.    Today the Indian electronics sector is ge
 aring up to cater to its own domestic and global requirements assisted by 
 a strong push from the Central Government. The day is not far when India w
 ill be a favoured country for sourcing electronics goods and an attractive
  destination with conducive policies and infrastructure for investment in 
 electronics manufacturing.   It would\, therefore\, a good opportunity f
 or business delegations from various countries to participate in INDEE. Th
 is would give the delegation an excellent opportunity to interact with sev
 eral Indian Electronics Hardware companies.   Besides the Indian hospital
 ity\, we are pleased to inform that under the Market Access Initiative (MA
 I) scheme of the Department of Commerce\, Government of India\, the Counci
 l would reimburse the cost of to and fro economy class air ticket and the 
 cost of 2 night’s hotel accommodation to the participating delegates. Th
 e ceiling of reimbursement will be US$ 900 (US$ 1500 to delegates from Afr
 ica\, LAC and North America) or the cost of the ticket plus 2 night hotel 
 accommodation – whichever is lower. The condition for sponsorship is as 
 below:\n\nThe company should be genuine Electronics Hardware importers/ bu
 yers or seeking joint ventures / tie-ups and / with Indian companies and\n
 1 delegate per company will be sponsored.\nPayment of US$ 200 towards part
 icipation fees (This will be deducted from the amount which will be reimbu
 rsed to the delegates on 2nd day of the event.)\n\n ESC’s official trav
 el agent will help the delegates in hotel accommodation.   We request you
  to kindly identify at least 5 or more potential buyers/ traders for INDEE
 . I am attaching a proforma\, which needs to be filled in by the company
 ’s representative\, who will be visiting INDIA ELECTRONICS EXPO. We woul
 d request you to kindly email us the duly filled proformas for nomination 
 latest by 30th September 2022. The early confirmations will help us to org
 anize business meetings in a professional way.Contact:  Vikas GuptaAddit
 ional Executive DirectorElectronics and Computer Software Export Promotion
  CouncilNew DelhiTel :  +91 11 47480039Mobile / WhatsApp : +91 9968369723
  \n
URL:https://www.spcr.cz/india-electornics-expo
DTSTART:20230327T000000
DTEND:20230329T235959
LOCATION:
END:VEVENT
END:VCALENDAR
