BEGIN:VCALENDAR
PRODID:-//eluceo/ical//2.0/EN
VERSION:2.0
CALSCALE:GREGORIAN
BEGIN:VEVENT
UID:f8c6da340d35535bd232dd1574d09476
DTSTAMP:20260423T130401Z
SUMMARY:Konference Obchodní příležitosti v Srbsku\, Bělehrad
DESCRIPTION:Název akce: Konference Obchodní příležitosti v Srbsku\, B
 ělehrad\nURL: https://www.spcr.cz/konference-obchodni-prilezitosti-v-srbs
 ku-belehrad\nPopis: \n\nDovolujeme si Vás pozvat na konferenci\, kterou o
 rganizuje Česká exportní banka\, a.s. jako Private Sector Liaison Offic
 er (PSLO) pro spolupráci se skupinou Světové banky\, spolu se svými pr
 otějšky ze Slovenska\, Maďarska a Srbska\, pod odbornou patronací Inte
 rnational Finance Corporation (IFC – součást skupiny Světové banky) 
 a Evropské banky pro obnovu a rozvoj (EBRD).\nKonference se uskuteční d
 ne 14. září 2022 v prostorách hotelu Hilton v Bělehradě a jejím t
 ématem bude nalezení investičních a obchodních příležitostí v Sr
 bsku a okolních zemích\, a to v automobilovém průmyslu\, vodohospodá
 řství a zavlažování\, v oblasti obnovitelných energií a zeměděls
 tví . Účastníci se mohou dozvědět také informace o možnostech spol
 upráce\, společného financování a přístupu do výběrových řízen
 í Světové banky a EBRD. Odpolední část programu bude věnována B2B 
 meetingům\, na kterých bude možné diskutovat konkrétní podnikatelsk
 é záměry a obchodní spolupráci.\nPodrobný program konference\nVeške
 ré náklady na uskutečnění konference a stravovaní (káva a občerstv
 ení v průběhu dne\, oběd\, večeře) budou hrazeny organizátory. Ú
 častníci si hradí cestovní a ubytovací výdaje. Ubytování je nabíz
 eno za zvýhodněný tarif 150 EUR/noc (+ 10 EUR za další osobu v pokoj
 i) přímo v hotelu Hilton.\nMáte-li zájem o účast na konferenci\, po
 př. potřebujete podrobnější informace\, neváhejte se co nejdříve o
 brátit přímo na paní Kateřinu Chmelařovou na adrese pslo@ceb.cz.\nBu
 deme se těšit na setkání s Vámi v Bělehradě.\nČeská exportní b
 anka\, a.s. jako Private Sector Liaison Officer pro skupiny Světové bank
 y\n
URL:https://www.spcr.cz/konference-obchodni-prilezitosti-v-srbsku-belehrad
DTSTART:20220914T000000
DTEND:20220914T235959
LOCATION:
END:VEVENT
END:VCALENDAR
