BEGIN:VCALENDAR
PRODID:-//eluceo/ical//2.0/EN
VERSION:2.0
CALSCALE:GREGORIAN
BEGIN:VEVENT
UID:32b84847a543601602821d47f1751a77
DTSTAMP:20260423T145924Z
SUMMARY:Podnikatelská mise do Iráckého Kurdistánu
DESCRIPTION:Název akce: Podnikatelská mise do Iráckého Kurdistánu\nURL
 : https://www.spcr.cz/podnikatelska-mise-do-irackeho-kurdistanu\nPopis: \n
 \nPodnikatelská mise do Iráckého Kurdistánu\, spoluorganizovaná Svaze
 m průmyslu a dopravy ČR\, se uskuteční u příležitosti Czech Busines
 s Day 2022 pořádaného Generálním konzulátem České republiky v Erb
 ílu\, a to v termínu 11. - 14. října 2022. Oborové zaměření akce j
 e především na oblast životního prostředí - zejména voda\, vodohos
 podářství\, odpadní průmysl. Vedoucím delegace bude Ing. Aleš Kend
 ík\, náměstek ministra zemědělství.Předběžný program:\n\n11. 10.
  - přílet do Erbílu\n12. 10. - jednací den v sále\, prezentace\, netw
 orking během dne\n13. 10. - návštěva přehrady v Duhoku / návštěva 
 firem\n14. 10. - odlet do ČR\n\nSvaz průmyslu a dopravy ČR bude na tét
 o misi zastupovat pan Majid Shamas Toma\, výkonný ředitel Česko-iráck
 é podnikatelské rady\, kterou SP ČR na české straně založil.V pří
 padě zájmu o účast na této misi prosím vyplňte do 10. srpna tento f
 ormulář. Zájemce budeme následně kontaktovat s bližšími informace
 mi.V případě dotazů se obraťte na manažerku pro mezinárodní vztahy
  Ing. Petru Šerákovou (pserakova@spcr.cz).\n
URL:https://www.spcr.cz/podnikatelska-mise-do-irackeho-kurdistanu
DTSTART:20221011T000000
DTEND:20221014T235959
LOCATION:
END:VEVENT
END:VCALENDAR
