BEGIN:VCALENDAR
PRODID:-//eluceo/ical//2.0/EN
VERSION:2.0
CALSCALE:GREGORIAN
BEGIN:VEVENT
UID:cbb660675222c4e3ac7ac67ae576d686
DTSTAMP:20260423T094900Z
SUMMARY:How to be successful in the EU-funded industrial cooperation?
DESCRIPTION:Název akce: How to be successful in the EU-funded industrial c
 ooperation?\nURL: https://www.spcr.cz/how-be-successful-eu-funded-industri
 al-cooperation\nPopis: \n\nConfederation of Industry of the Czech Republic
  and the European Defence Agency would like to invite you to the seminar\
 nHow to be successful in the Eu-funded industrial cooperation?\nThe aim of
  the seminar for non-defence companies and research & development industri
 al organisations is to present collaborative opportunities which the Europ
 ean Defence Agency can facilitate for interesting projects focused on inno
 vation\, dual-use technologies\, projects of a defence and non-defence nat
 ure\, finding business partners for small\, medium and large enterprises. 
 EDA will also present tools\, platforms and methods for reaching various E
 U funds and financial instruments that are offered to companies of all kin
 ds.\nFind more examples of focus areas for cooperation that EDA supports a
 t: https://eda.europa.eu/what-we-do/research-technology/capability-techno
 logy-areas-(captechs) \nThe seminar is organised by the Confederation of 
 Industry of the Czech Republic and it has been initiated by General (ret.)
  Petr Pavel.\nPreliminary agenda of the seminar:\n\nPetr Pavel\, General (
 ret.)\, welcome speech\nJiří Šedivý\, Chief Executive of the EDA\, int
 roduction\nRear Admiral Emilio Fajardo\, Director for Industry\, Synergies
  and Enablers\, EDA\, presentation of EDA’s industrial cooperation\, opp
 ortunities and concrete examples of successful projects\nRadek Špicar\, V
 ice President\, Confederation of Industry of the Czech Republic \nDiscuss
 ion and open floor for the business representatives\nB2B meetings\n\nRegis
 tration for this seminar is required – therefore\, we strongly recommend
  you to register via the registration form.\nLanguage of the event:\n\nEng
 lish\n\nContact person:\n\nMartin Natafaluši\, mnatafalusi@spcr.cz\, T: +
 420 733 643 556\n
URL:https://www.spcr.cz/how-be-successful-eu-funded-industrial-cooperation
DTSTART:20220831T100000
DTEND:20220831T120000
LOCATION:
END:VEVENT
END:VCALENDAR
