BEGIN:VCALENDAR
PRODID:-//eluceo/ical//2.0/EN
VERSION:2.0
CALSCALE:GREGORIAN
BEGIN:VEVENT
UID:207c02aed58718f400aeb56c9a27f432
DTSTAMP:20260423T124857Z
SUMMARY:Tchaj-wan: nabídka pro české start-upy
DESCRIPTION:Název akce: Tchaj-wan: nabídka pro české start-upy\nURL: ht
 tps://www.spcr.cz/tchaj-wan-nabidka-pro-ceske-start-upy-0\nPopis: \n\nStar
 tup Terrace Virtual Landing Program vznikl za podpory tchajwanského Svaz
 u malých a středních podniků a je určen pro start-upy především z 
 oblasti Space a GreenTech.   Cílem programu je představení tchajwanské
 ho trhu\, startupového prostředí\, zajištění matchmakingovych aktivi
 t s potenciálními partnery či investory\, mentoring aj.   Více informa
 cí o programu a Startup Terrace naleznete v příloze. Vaše dotazy smě
 řujte z časových důvodů přímo na:Amy Yeh / amy_yeh@mail.tca.org.tw 
 Vivian Pu / vivianpu@mail.tca.org.tw  V případě Vašeho zájmu o účas
 t\, vyplňte formulář (https://seminars.tca.org.tw/D10o02635.aspx?fbclid
 =IwAR1seEYqrvu3yHVhZUfSC-gg9dRsdQUqIuOrSNmcsvrjkq45dRehk2PS4DM ).   Deadli
 ne pro odeslání přihlášky je již 4. srpna 2022.Program se uskutečn
 í online ve dnech 5. - 30. září 2022.\n
URL:https://www.spcr.cz/tchaj-wan-nabidka-pro-ceske-start-upy-0
DTSTART:20220905T000000
DTEND:20220905T235959
LOCATION:
END:VEVENT
END:VCALENDAR
