BEGIN:VCALENDAR
PRODID:-//eluceo/ical//2.0/EN
VERSION:2.0
CALSCALE:GREGORIAN
BEGIN:VEVENT
UID:871efa2bb77d6d58a2c2a5565e0b74e8
DTSTAMP:20260423T172751Z
SUMMARY:Healthcare Expo Taiwan
DESCRIPTION:Název akce: Healthcare Expo Taiwan\nURL: https://www.spcr.cz/h
 ealthcare-expo-taiwan\nPopis: \n\n2022 Healthcare+ Expo Taiwan je největ
 ší veletrh v Asii zaměřený na zdravotnictví a bude se konat ve fyzic
 ké a online formě v Tchaj-pej od 1. do 4. prosince 2022.\nVeletrh spoluo
 rganizuje tchajwanský Institut pro biotechnologický a medicínský prům
 ysl (IBMI)\, Ministerstvo zdravotnictví a sociální péče\, Ministerstv
 o hospodářství\, Ministerstvo vědy a techniky\, Rada zemědělství a 
 vláda Tchajpej. Loni se veletrhu zúčastnilo více než 600 vystavovatel
 ů s více než 1850 stánky a 180 000 návštěvníků.\n
URL:https://www.spcr.cz/healthcare-expo-taiwan
DTSTART:20221201T000000
DTEND:20221204T235959
LOCATION:
END:VEVENT
END:VCALENDAR
