BEGIN:VCALENDAR
PRODID:-//eluceo/ical//2.0/EN
VERSION:2.0
CALSCALE:GREGORIAN
BEGIN:VEVENT
UID:7727b5fa5559dbe13060900a3d8c75b4
DTSTAMP:20260423T162819Z
SUMMARY:Trh práce ČR v postpandemické době – flexibilní formy práce
DESCRIPTION:Název akce: Trh práce ČR v postpandemické době – flexibi
 lní formy práce\nURL: https://www.spcr.cz/trh-prace-cr-v-postpandemicke-
 dobe-flexibilni-formy-prace\nPopis: \n\nZměny na trhu práce nebyly nikdy
  tak viditelné a náročné\, jako po téměř 3 letech krizového \,\,pa
 ndemického” režimu. Tyto změny přinesly kvalifikovaným kandidátům
  silnější postavení při vyjednávání nástupních podmínek. Zaměs
 tnavatelé se musí zaměřit na nové benefity\, efektivitu a hlavně fle
 xibilitu pracovních pozic i úvazků. Kandidáti dnes považují práci z
  domova či flexibilní pracovní dobu za standard. Firmy se proto ptají\
 , jakým způsobem tyto změny reflektovat do employer branding strategie 
 i jak je mají řešit legislativně. I proto jsme se rozhodli připravit 
 diskusi u kulatého stolu\, při které by si zástupci firem mohli předa
 t best practices právě z oblasti flexibility zaměstnávání.\nNa akci 
 společnosti CPL Jobs s.r.o.\, nad níž převzal Svaz průmyslu a dopravy
  svou záštitu budou 3 hlavní speakeři\, zástupci IT firem i firem z v
 ýrobní sféry\, kteří budou hovořit o tom\, jak vidí aktuální situ
 aci na trhu práce\, jakým způsobem na ni reagují a také budou hovoři
 t o budoucnosti v rámci následujících několika let.\nAkce se uskuteč
 ní 12.října 2022 od 13:00 – 18.00 v krásných konferenčních prosto
 rách coworkingového centra EDUNESTO v Brně. Účastníky budou zástupc
 i firem\, primárně z oblasti HR a vyšších manažerských pozic ve fir
 mách. Akce bude pro účastníky ZDARMA.\n
URL:https://www.spcr.cz/trh-prace-cr-v-postpandemicke-dobe-flexibilni-formy
 -prace
DTSTART:20221012T130000
DTEND:20221012T180000
LOCATION:
END:VEVENT
END:VCALENDAR
