BEGIN:VCALENDAR
PRODID:-//eluceo/ical//2.0/EN
VERSION:2.0
CALSCALE:GREGORIAN
BEGIN:VEVENT
UID:4cf7a6079e51ca0e6ec3d0339278f79d
DTSTAMP:20260423T094711Z
SUMMARY:Beijing International Life and Health Industry Expo
DESCRIPTION:Název akce: Beijing International Life and Health Industry Exp
 o\nURL: https://www.spcr.cz/beijing-international-life-and-health-industry
 -expo\nPopis: \n\nNa základě pozvání ze strany Ministerstva obchodu 
 ČLR a Čínské národní zdravotnické komise Vám předáváme informa
 ce o možnosti zúčastnit se Beijing International Life and Health Indust
 ry Expo.\nZahajovací ceremoniál v Pekingu proběhne od 13:00 čínského
  času (CST\, UTC +8) viz. itinerář. \nPropojování projektů bude pro
 bíhat od července do listopadu 2022. Pro více informací k akci se obra
 ťte na kontaktní osobu pana Qiu. \nKontakt registrace: Secretary Gener
 al: Mr. Qiu +86 15801079798Email：pxchina@126.comWebsite：http://www.360
 clhe.com\n
URL:https://www.spcr.cz/beijing-international-life-and-health-industry-expo
DTSTART:20221125T130000
DTEND:20221127T200000
LOCATION:
END:VEVENT
END:VCALENDAR
