BEGIN:VCALENDAR
PRODID:-//eluceo/ical//2.0/EN
VERSION:2.0
CALSCALE:GREGORIAN
BEGIN:VEVENT
UID:5f4f7d3410c23caf799e46e27503eb67
DTSTAMP:20260423T150052Z
SUMMARY:China International Consumer Products Expo 2022
DESCRIPTION:Název akce: China International Consumer Products Expo 2022\nU
 RL: https://www.spcr.cz/china-international-consumer-products-expo-2022\nP
 opis: \n\nChina International Consumer Products Expo (dále jen Hainan Exp
 o) je první národní výstava zaměřená na spotřební zboží v Čí
 ně a zároveň největší výstava spotřebního zboží v asijsko-pacif
 ickém regionu. V letošním roce bude výstavní plocha rozšířena z 8
 0 000 čtverečních metrů na 100 000 metrů čtverečních. Loňského p
 rvního ročníku se celkem zúčastnilo 1505 podniků a 2628 spotřební
 ch butikových značek ze 70 zemí.\nKrátké představení veletrhu nalez
 nete zde a zde. \nPro více informací můžete kontaktovat:Kong Yafei
 （Ms.）Economic & Commercial Office of Chinese Embassy in the Czech Rep
 ublicPelléova 119/6\, 160 00 Praha 6-BubenečTel: 00420 233 028 861 \n
URL:https://www.spcr.cz/china-international-consumer-products-expo-2022
DTSTART:20220726T080000
DTEND:20220730T170000
LOCATION:
END:VEVENT
END:VCALENDAR
