BEGIN:VCALENDAR
PRODID:-//eluceo/ical//2.0/EN
VERSION:2.0
CALSCALE:GREGORIAN
BEGIN:VEVENT
UID:b46dfd0cbacba0c3fa04aa540008a759
DTSTAMP:20260423T150340Z
SUMMARY:Národní stánek ČR na XXIII. sympoziu ENERGETYKA BEŁCHATÓW 202
 2
DESCRIPTION:Název akce: Národní stánek ČR na XXIII. sympoziu ENERGETYK
 A BEŁCHATÓW 2022\nURL: https://www.spcr.cz/narodni-stanek-cr-na-xxiii-sy
 mpoziu-energetyka-belchatow-2022-0\nPopis: \n\nDovolte\, abychom Vás info
 rmovali o možnosti účasti na společném národním stánku CzechTrade 
 a velvyslanectví ČR ve Varšavě na XXIII. Sympoziu ENERGETYKA BEŁCHAT
 ÓW 2022\, které  se bude konat ve dnech 5. – 7.9. 2022 v Bełchatowie
 . Hlavním cílem společné expozice je podpořit vnímaní českých fir
 em působících v energetickém segmentu jako významného obchodního p
 artnera pro polské firmy.\nVíce informací\n
URL:https://www.spcr.cz/narodni-stanek-cr-na-xxiii-sympoziu-energetyka-belc
 hatow-2022-0
DTSTART:20220905T000000
DTEND:20220907T235959
LOCATION:
END:VEVENT
END:VCALENDAR
