BEGIN:VCALENDAR
PRODID:-//eluceo/ical//2.0/EN
VERSION:2.0
CALSCALE:GREGORIAN
BEGIN:VEVENT
UID:753d2cfdddc461c2ea93beeb271a09da
DTSTAMP:20260423T163130Z
SUMMARY:Veletrh All Energy v Melbourne
DESCRIPTION:Název akce: Veletrh All Energy v Melbourne\nURL: https://www.s
 pcr.cz/veletrh-all-energy-v-melbourne\nPopis: \n\nDobrý den\,\nv příloz
 e najdete informace k veletrhu All Energy\, který se uskuteční ve dnech
  16.-27. října v Melbourne. Účast českých firem bude podpořena z pr
 ogramu ekonomické diplomacie PROPED. V případě zájmu o účast se pro
 sím obraťte na ZÚ Canberra - Milan Vágner\, +61 2 6290 1386 nebo milan
 _vagner@mzv.cz\n
URL:https://www.spcr.cz/veletrh-all-energy-v-melbourne
DTSTART:20221026T080000
DTEND:20221027T170000
LOCATION:
END:VEVENT
END:VCALENDAR
