BEGIN:VCALENDAR
PRODID:-//eluceo/ical//2.0/EN
VERSION:2.0
CALSCALE:GREGORIAN
BEGIN:VEVENT
UID:1c625f20d25fd64f0abea701b46eb602
DTSTAMP:20260423T163130Z
SUMMARY:Mediterranean and North African Conference and Exhibition
DESCRIPTION:Název akce: Mediterranean and North African Conference and Exh
 ibition\nURL: https://www.spcr.cz/mediterranean-and-north-african-conferen
 ce-and-exhibition\nPopis: \n\nTunusian National Oil Company (ETAP) bude ho
 stit středomořskou a severoafrickou konferenci a výstavu (MEDiNA) na t
 éma „Nové možnosti průzkumu a výzvy v oblasti energetických zdroj
 ů“.\nTato akce je organizována ve spolupráci s Americkou asociací ro
 pných geologů (AAPG) a Evropskou asociací geovědců a inženýrů (EAG
 E).\nKonference a výstava MEDiNA bude regionálně zaměřená a poskytne
  technické zdroje\, programy\, workshopy a exkurze\, aby se dozvěděli o
  nejdůležitějších vrstvách těžby ropy a plynu v Tunisku.\nPodrobno
 sti o této konferenci naleznete zde.\n
URL:https://www.spcr.cz/mediterranean-and-north-african-conference-and-exhi
 bition
DTSTART:20220912T090000
DTEND:20220914T160000
LOCATION:
END:VEVENT
END:VCALENDAR
