BEGIN:VCALENDAR
PRODID:-//eluceo/ical//2.0/EN
VERSION:2.0
CALSCALE:GREGORIAN
BEGIN:VEVENT
UID:ab25619c0853da6345760b6269821350
DTSTAMP:20260423T130819Z
SUMMARY:Čínský mezinárodní veletrh dovozu přivítá značku „vyrobe
 no v České republice“
DESCRIPTION:Název akce: Čínský mezinárodní veletrh dovozu přivítá 
 značku „vyrobeno v České republice“\nURL: https://www.spcr.cz/cinsk
 y-mezinarodni-veletrh-dovozu-privita-znacku-vyrobeno-v-ceske-republice\nPo
 pis: \n\nPátý ročník Čínského mezinárodního veletrhu dovozu („C
 hina International Import Expo“\, dále jen „veletrh CIIE”) se bude 
 konat podle ve dnech 5. až 10. listopadu 2022 v Šanghaji. K účasti na 
 veletrhu CIIE jsou zvány české firmy\, které mají zájem o proniknut
 í na rozsáhlý čínský trh čítající více než 1\,4 miliardy obyva
 tel.\nLetošní 5. ročník veletrhu CIIE připravil pro vystavující spo
 lečnosti balíček speciálních opatření\, která mají za úkol podpo
 řit a pomoci podnikům zúčastnit se veletrhu CIIE\, ať už z hlediska 
 pandemie nebo nákladů spojených s účastí na veletrhu. \nČeské fir
 my budou mít na veletrhu možnost opět využít výstavní prostor „Č
 eský dům“\, který byl úspěšný již na 4. veletrhu CIIE. Více k i
 nformací k veletrhu je k dispozici ZDE. \n \nKontaktní údaje pro regi
 straci:\nChina International Import Expo Bureau\, National Exhibition and 
 Convention Center (Shanghai)Address: 333 Songze Avenue\, ShanghaiChina Hot
 line: +86-21-968888Website: www.ciie.org\nPro více informací můžete ta
 ké kontaktovat:Kong Yafei（Ms.）Economic & Commercial Office of Chines
 e Embassy in the Czech RepublicPelléova 119/6\, 160 00 Praha 6-BubenečTe
 l: 00420 233 028 861 \n
URL:https://www.spcr.cz/cinsky-mezinarodni-veletrh-dovozu-privita-znacku-vy
 robeno-v-ceske-republice
DTSTART:20221105T080000
DTEND:20221110T170000
LOCATION:
END:VEVENT
END:VCALENDAR
