BEGIN:VCALENDAR
PRODID:-//eluceo/ical//2.0/EN
VERSION:2.0
CALSCALE:GREGORIAN
BEGIN:VEVENT
UID:8a9c9504e55c65f3fefd3d6e9c9fa034
DTSTAMP:20260423T163124Z
SUMMARY:Webinář k novelizaci UKCA režimu - dodávky výrobků z EU na br
 itský trh
DESCRIPTION:Název akce: Webinář k novelizaci UKCA režimu - dodávky vý
 robků z EU na britský trh\nURL: https://www.spcr.cz/webinar-k-novelizaci
 -ukca-rezimu-dodavky-vyrobku-z-eu-na-britsky-trh\nPopis: \n\nNové informa
 ce ohledně opatření přijatých britskou stranou ke zjednodušení dod
 ávek výrobků z EU na britský trh a dočasnému uznávání evropských
  certifikátů\, které byly zveřejněny na stránkách ÚNMZ - najdete 
  zde.   V návaznosti na zavádění těchto opatření pro podporu podni
 ků\, které přijímají označení UKCA (Prohlášení o shodě při vý
 vozu na britský trh)\, organizuje britský UKCDR (UK Collaborative on Dev
 elopment Research) online  webinář\, v jehož průběhu budou účastn
 íci seznámeni se zaváděnými opatřeními a budou mít možnost polož
 it k tomuto tématu konkrétní otázky.\nWebinář se bude konat dne 29. 
 června 2022 ve dvou termínech od 10 hod (přihlášení zde) a od 14 hod
  (přihlášení zde) našeho středoevropského času. Pod odkazy jsou uv
 edeny termíny dle britského letního času (BST).\nPro další dotazy ko
 ntaktujte:Ing. Jindra Kafkovátajemnice KTPOktpo@unmz.cz\nvyřizuje:  Věr
 a Hátlová Chaloupeckárada pro mezinárodní spolupráciOdbor mezinárod
 ních vztahůOddělení EU a mezinárodní spolupráceTelefon: +420 221 80
 2 205E-mail: hatlova_chaloupecka@unmz.czBiskupský dvůr 1148/5 110 00 Pra
 ha 1změna pracoviště od 1.8.2020Na Žertvách 132/24\, \, Praha 8\, 18
 0 00www.unmz.cz\n
URL:https://www.spcr.cz/webinar-k-novelizaci-ukca-rezimu-dodavky-vyrobku-z-
 eu-na-britsky-trh
DTSTART:20220629T100000
DTEND:20220629T120000
LOCATION:
END:VEVENT
END:VCALENDAR
