BEGIN:VCALENDAR
PRODID:-//eluceo/ical//2.0/EN
VERSION:2.0
CALSCALE:GREGORIAN
BEGIN:VEVENT
UID:2db980335c14979407e704d12acc01f8
DTSTAMP:20260423T162941Z
SUMMARY:Korejský jaderný & high-tech den 2022
DESCRIPTION:Název akce: Korejský jaderný & high-tech den 2022\nURL: http
 s://www.spcr.cz/korejsky-jaderny-high-tech-den-2022\nPopis: \n\nPřipojte 
 se zdarma ke „Korejskému jadernému a high-tech dni 2022“  Zažijte k
 ouzlo korejských špičkových technologií ve spojení s jedinečnou kor
 ejskou kulturou. KHNP dlouhodobě představuje korejskou kulturu a energet
 iku v České republice.  Akce je zdarma a je možné si s sebou vzít dop
 rovod.   Pro účast je nutná registrace\, včetně vašeho doprovodu.\n
       Přečtěte si detaily akce   a přihlaste se se ještě dnes
 !   \n
URL:https://www.spcr.cz/korejsky-jaderny-high-tech-den-2022
DTSTART:20220628T173000
DTEND:20220628T210000
LOCATION:
END:VEVENT
END:VCALENDAR
