BEGIN:VCALENDAR
PRODID:-//eluceo/ical//2.0/EN
VERSION:2.0
CALSCALE:GREGORIAN
BEGIN:VEVENT
UID:63fd7319f3b35eae9b908c6bf6ae438f
DTSTAMP:20260423T150340Z
SUMMARY:International Business Event
DESCRIPTION:Název akce: International Business Event\nURL: https://www.spc
 r.cz/international-business-event\nPopis: \n\nCharitativní nadace HOPE.UA
  s podporou velvyslanectví Ukrajiny v České republice si Vás dovoluje 
 pozvat k účasti na mezinárodní obchodní akci související s obnovou 
 Ukrajiny.\n\nRegistrace na akci je k dispozici zde.\nProgram akce je dost
 upný v přiloženém souboru.\n12.07.2022_Invitation_Prague_HopeUA.pdf\nV
  případě potřeby dodatečných informací se prosím neváhejte obrát
 it na Andriia Koleschnichenka\, obchodní radu na ukrajinském velvyslanec
 tví v Praze\, České republice: andrii.kolesnichenko@mfa.gov.ua\n \n
URL:https://www.spcr.cz/international-business-event
DTSTART:20220712T100000
DTEND:20220712T140000
LOCATION:
END:VEVENT
END:VCALENDAR
