BEGIN:VCALENDAR
PRODID:-//eluceo/ical//2.0/EN
VERSION:2.0
CALSCALE:GREGORIAN
BEGIN:VEVENT
UID:8296970b2ead7436f3363f96b697a528
DTSTAMP:20260423T125212Z
SUMMARY:3. den inovací ČR - Mexiko (Jalisco)
DESCRIPTION:Název akce: 3. den inovací ČR - Mexiko (Jalisco)\nURL: https
 ://www.spcr.cz/3-den-inovaci-cr-mexiko-jalisco\nPopis: \n\nMinisterstvo pr
 ůmyslu a obchodu a Velvyslanectví Mexika v ČR spolu s dalšími partner
 y organizují v pořadí 3. inovační den Česká republika - Mexiko.\nJe
 ho cílem je představit programy a politiku mexického státu Jalisco a j
 eho inovační ekosystém zahrnující podniky\, univerzity\, startupy a i
 nvestory a z toho vyplývající příležitosti českému publiku a naopa
 k český inovační ekosystém mexickým hostům.\nAkce proběhne v angli
 čtině\, účast je zdarma\, registrace nutná\nPozvánka s programem\n
URL:https://www.spcr.cz/3-den-inovaci-cr-mexiko-jalisco
DTSTART:20220628T100000
DTEND:20220628T123000
LOCATION:
END:VEVENT
END:VCALENDAR
