BEGIN:VCALENDAR
PRODID:-//eluceo/ical//2.0/EN
VERSION:2.0
CALSCALE:GREGORIAN
BEGIN:VEVENT
UID:540e6faaf439e118d4706ddea7081a82
DTSTAMP:20260423T125843Z
SUMMARY:The Single Market\, the natural playground for European SMEs
DESCRIPTION:Název akce: The Single Market\, the natural playground for Eur
 opean SMEs\nURL: https://www.spcr.cz/single-market-natural-playground-euro
 pean-smes\nPopis: \n\nDovolujeme si Vás pozvat na ministerskou konferenci
  “The Single Market\, the natural playground for European SMEs” \, o
 rganizovanou v rámci franouzského předsednictví v Radě EU dne 21. 6.2
 022 v Paříži. Konference se koná též online (registrace na http://h
 orizon-pme-europeenne.evenium-site.com).\nVíce informací viz níže a v 
 přílohách.\nNIP_Participants.pdf\nNIP_Participants_EN.pdf\nPFUE_-_Conf
 érence_Marché_unique__PME_-_21_juin_2022_-_Programme.pdf\nPFUE_-_Confér
 ence_Marché_unique__PME_-_21_juin_2022_-_Programme_EN.pdf\n
URL:https://www.spcr.cz/single-market-natural-playground-european-smes
DTSTART:20220621T090000
DTEND:20220621T173000
LOCATION:
END:VEVENT
END:VCALENDAR
