BEGIN:VCALENDAR
PRODID:-//eluceo/ical//2.0/EN
VERSION:2.0
CALSCALE:GREGORIAN
BEGIN:VEVENT
UID:3eaa7ca22f87048912686d2534714145
DTSTAMP:20260423T162951Z
SUMMARY:Obchodní a logistická konference „Romania's Black Sea Port of C
 onstanta – a Strategic Hub for Europe”
DESCRIPTION:Název akce: Obchodní a logistická konference „Romania's Bl
 ack Sea Port of Constanta – a Strategic Hub for Europe”\nURL: https://
 www.spcr.cz/obchodni-logisticka-konference-romanias-black-sea-port-constan
 ta-strategic-hub-europe\nPopis: \n\nVelvyslanectví Rumunska v Praze Vás 
 zve na obchodní a logistickou konferenci „Romania's Black Sea Port of 
 Constanta – a Strategic Hub for Europe”.\nPozvánka\nPracovní program
 \n
URL:https://www.spcr.cz/obchodni-logisticka-konference-romanias-black-sea-p
 ort-constanta-strategic-hub-europe
DTSTART:20220620T150000
DTEND:20220620T170000
LOCATION:
END:VEVENT
END:VCALENDAR
