BEGIN:VCALENDAR
PRODID:-//eluceo/ical//2.0/EN
VERSION:2.0
CALSCALE:GREGORIAN
BEGIN:VEVENT
UID:b031a626cd527d7110e76eb82a13cf27
DTSTAMP:20260423T150246Z
SUMMARY:ESG a CSRD pro firmy v praxi
DESCRIPTION:Název akce: ESG a CSRD pro firmy v praxi\nURL: https://www.spc
 r.cz/esg-csrd-pro-firmy-v-praxi\nPopis: \n\nESG principy si pomalu razí c
 estu do běžného života firem i celé společnosti. Ve chvíli\, kdy ve
 jde v platnost nová směrnice CSRD (Corporate Sustainability Reporting Di
 rective) o nefinančním reportování\, už nepůjde o jejich dobrovolnou
  implementaci do podnikání\, ale o povinnost. Dle současných předpokl
 adů začne platit v roce 2024\, bude se ale vztahovat už na fiskální r
 ok 2023.\nVíte\, zda se vás to týká?\nJste na tuto novou situaci přip
 raveni?\nPokud zatím tápete nebo hledáte inspiraci\, jak nejlépe tuto 
 novinku uchopit\, pak přijměte pozvání na náš seminář „ESG a CSR
 D pro firmy v praxi“ a na představení nového informačního portálu 
 www.csrd.cz\, kde najdete vše o ESG a CSRD na jednom místě. Svaz průmy
 slu a dopravy ČR převzal nad touto akcí záštitu.\nProgram akce:\n16:0
 0 - Přivítání - Tomáš Jindříšek\, managing partner\, DFMG\n16:05-
 16:15 - Velká změna pro podnikání a průmysl - Petr Jonák\, Svaz prů
 myslu a dopravy\n16:15–16:30 - ESG a CSRD pohledem Evropské unie - Magd
 aléna Frouzová\, Zastoupení Evropské komise\n16:30–16:50 - Právní 
 aspekty CSRD a ESG - Marek Procházka\, partner\, PRK Partners\n16:50–17
 :10 - Technické aspekty\, standardizace a certifikace - Lukáš Ferkl\, m
 anaging partner\, EnviTrail\n17:10–17:30 - Strategické a byznys aspekty
  - Edita Šilhánová & Marie Zemanová\, partnerky\, COM.SE Consulting\n1
 7:30–17:50 - ESG v praxi: případová studie T-Mobile - Simona Dřízha
 lová\, sustainability expert\, T-Mobile\n17:50–18:20 - Společná panel
 ová debata - Dotazy\, diskuze\n18:20.... - Networking\, prohlídka prosto
 r\nPokud o akci máte zájem\, registrujte se zde: https://www.eventbrite.
 com/e/esg-a-csrd-pro-firmy-v-praxi-tickets-359557836167\n
URL:https://www.spcr.cz/esg-csrd-pro-firmy-v-praxi
DTSTART:20220621T160000
DTEND:20220621T190000
LOCATION:
END:VEVENT
END:VCALENDAR
