BEGIN:VCALENDAR
PRODID:-//eluceo/ical//2.0/EN
VERSION:2.0
CALSCALE:GREGORIAN
BEGIN:VEVENT
UID:c46e9f96ced37b9e13eaf431652446c2
DTSTAMP:20260423T125941Z
SUMMARY:Seminář o technologiích vozidel na nové energie
DESCRIPTION:Název akce: Seminář o technologiích vozidel na nové energi
 e\nURL: https://www.spcr.cz/seminar-o-technologiich-vozidel-na-nove-energi
 e\nPopis: \n\nVážení podnikatelé\, s dovolením Vám předáváme info
 rmaci o možnosti zúčastnit se semináře na téma technologií spojený
 mi s novými zdroji energie v automobilovém průmyslu. \nOrganizátoři 
 semináře:\n\nAcademy for International Business Officials\, MOFCOM (AIBO
 )\nProfessional Qualification Authority\, MOT (PQA)\n\nPředběžný itine
 rář akce naleznete zde. Veškeré časy jsou uvedeny pekingského času 
 (GMT+8). \nPro registraci a více informací týkajících se semináře 
 kontaktuje pana Feng Xiao\, kontaktní informace viz. níže. \nContact: 
 Mr. FENG Xiao (registration)Tel.: 0086-10-69759898-6840Phone: 0086-1346662
 0106Email: xtbzs@china-aibo.cn\n
URL:https://www.spcr.cz/seminar-o-technologiich-vozidel-na-nove-energie
DTSTART:20220725T080000
DTEND:20220729T140000
LOCATION:
END:VEVENT
END:VCALENDAR
