BEGIN:VCALENDAR
PRODID:-//eluceo/ical//2.0/EN
VERSION:2.0
CALSCALE:GREGORIAN
BEGIN:VEVENT
UID:746ea395464389c9b642c1b03653d411
DTSTAMP:20260423T125029Z
SUMMARY:Ekonomika po brexitu
DESCRIPTION:Název akce: Ekonomika po brexitu\nURL: https://www.spcr.cz/eko
 nomika-po-brexitu\nPopis: \n\nSvaz průmyslu a dopravy ČR si Vás v rámc
 i projektu „Rozvoj národního\, odvětvového a regionálního sociáln
 ího dialogu v ČR“ dovoluje pozvat k hybridnímu kulatému stolu\nEkono
 mika po brexitu\n9. června 2022\, 11:30– 15:00 hod. online prostřednic
 tvím aplikace zoom  nebo prezenčně: Clarion Congress hotel Ústí nad 
 Labem\nCÍL\n\nOdchod Spojeného království z Evropské unie znamenal be
 zprecedentní změnu v ekonomických vztazích mezi našimi zeměmi. Zám
 ěrem této akce je poskytnout představitelům českých podniků informa
 ce a prostor na diskuzi o tom\, jak efektivně spolupracovat s anglickými
  subjekty v oblasti importu/exportu technologií a na co se připravit\, p
 okud by chtěli vstoupit na tamější trh. Každý výstup má na konci 1
 0 minut určených pro diskuzi nad tématem a modře zvýrazněné výstup
 y budou v angličtině.\n\nČASOVÝ HARMONOGRAM\n11:30 – 12:00 Registrac
 e účastníků\, organizační pokyny\, Petr Teplý\, regionální manaž
 er SP ČR\n12:00 – 12:30 Aktuální komplexní vývoj v obchodních vzta
 zích vůči UK\, Luboš Joza\, vedoucí Oddělení zemí EU a ESVO\, Mini
 sterstvo průmyslu a obchodu\n12:30 – 13:00 Brexit – o změnách v eko
 nomických vztazích\, Martin Lukáš\, ředitel Sekce mezinárodních vzt
 ahů\, Svaz průmyslu a dopravy ČR\n13:00 – 13:30 UKCA – new product 
 certification system in UK 2023 (v angličtině)\, Erin Fair\, UK Governme
 nt - Department for Business\, Energy and Industrial Strategy\n13:30 – 1
 4:00 Future of Manufacturing: Localising production with Additive Manufact
 uring (v angličtině)\, Mike Saxer\, Chief Engineering Officer\, Practer
 ia\n14:00 – 14:30 Financing technology investments from UK funds (v ang
 ličtině)\, Dusko Krsmanovic UK Export Finance\, Trade and Investment Neg
 otiations\n14:30 – 15:00 Financování technologických investic z EU/CZ
  fondů\, Antonín Weber\, ředitel R&D and Government Incentives\, Deloit
 te\nREGISTRACE\n\n Účast je bezplatná a potvrdíte jí pomocí online 
 registrace. V případě dotazů se prosím obraťte na regionálního man
 ažera SP ČR pro Prahu\, Středočeský a Ústecký kraj (tel: 603 459 52
 1 nebo na e-mail: pteply@spcr.cz).\n
URL:https://www.spcr.cz/ekonomika-po-brexitu
DTSTART:20220609T113000
DTEND:20220609T150000
LOCATION:
END:VEVENT
END:VCALENDAR
