BEGIN:VCALENDAR
PRODID:-//eluceo/ical//2.0/EN
VERSION:2.0
CALSCALE:GREGORIAN
BEGIN:VEVENT
UID:4ea122336cecb20e559abf952ff2fecf
DTSTAMP:20260423T125013Z
SUMMARY:Ekonomika po Brexitu
DESCRIPTION:Název akce: Ekonomika po Brexitu\nURL: https://www.spcr.cz/eko
 nomika-po-brexitu-0\nPopis: \n\nOdchod Velké Británie z Evropské unie z
 namenal bezprecedentní změnu v ekonomických vztazích mezi našimi zem
 ěmi. Speciální seminář Svazu průmyslu a dopravy ČR proto poskytne p
 ředstavitelům českých podniků informace a prostor na diskuzi o tom\, 
 jak efektivně spolupracovat s britskými subjekty v oblasti importu či e
 xportu technologií. Poradí jim také\, na co se připravit\, pokud by ch
 těli vstoupit na tamější trh. Máte o seminář zájem? Registrujte se
  zde.\nAkce se koná hybridní formou\, prezenčně v Clarion Congress Hot
 elu v Ústí nad Labem\, online pak přes platformu Zoom.\nPodrobné infor
 mace o programu najdete zde.\n
URL:https://www.spcr.cz/ekonomika-po-brexitu-0
DTSTART:20220609T113000
DTEND:20220609T150000
LOCATION:
END:VEVENT
END:VCALENDAR
