BEGIN:VCALENDAR
PRODID:-//eluceo/ical//2.0/EN
VERSION:2.0
CALSCALE:GREGORIAN
BEGIN:VEVENT
UID:439989d3ed2f2c73bf3a3ac3fa638f90
DTSTAMP:20260423T125523Z
SUMMARY:Zaměstnávání osob se zdravotním postižením
DESCRIPTION:Název akce: Zaměstnávání osob se zdravotním postižením\
 nURL: https://www.spcr.cz/zamestnavani-osob-se-zdravotnim-postizenim\nPopi
 s: \n\nSvaz průmyslu a dopravy ČR si Vás v rámci projektu „Rozvoj n
 árodního\, odvětvového a regionálního sociálního dialogu v ČR“ 
 dovoluje pozvat ke kulatému stolu\nZAMĚSTNÁVÁNÍ OSOB SE ZDRAVOTNÍM P
 OSTIŽENÍM\n15. června 2022\, 10.00-12.30 hodHotel Černigov\, Riegrovo
  nám. 1494\, 500 02 Hradec Králové\,  salónek ve 14. patře (nebo o
 nline přes aplikaci zoom)\n CÍL\n\nProblematice zaměstnávání osob s
 e zdravotním postižením je v ČR dlouhodobě věnována zvýšená poz
 ornost. Přesto stále přetrvávají předsudky a obavy zaměstnavatelů
  při zaměstnávání této cílové skupiny. Kulatý stůl bude věnov
 án aktuálním tématům a problematice v oblasti zaměstnávání osob
  se zdravotním postižením.  Cílem setkání je vyměnit si informace
  a názory na oblasti\, které jsou v současné době diskutovány\, a to
  kdo je pro účely zaměstnanosti považován za osobu se zdravotním po
 stižením\, co nesmí zaměstnavatelé při jejich zaměstnávání opom
 enout a o jaké formy finanční podpory mohou požádat. Dále kteří z
 aměstnavatelé mají za zákona povinnost tyto osoby zaměstnávat\, v j
 aké výši a jak tuto povinnost splnit.  V neposlední řadě by mělo s
 etkání napomoci k vzájemné výměně zkušeností z aplikační praxe
  o postupech a problémech. \n\nProgram\n\ntrh práce v Královehradeck
 ém kraji\npodmínky vyplývající ze zákona o zaměstnanosti v oblast
 i zaměstnávání osob se zdravotním postižením („ dále jen OZP“)
 \npráva a povinnosti zaměstnavatelů a spolupráce s úřady práce\npl
 nění povinného podílu\, výpočet náhradního plnění\, finanční 
 odvod\nspecifika zaměstnávání OZP\nfinanční podpora zaměstnavatelů
  při zaměstnávání OZP\ndalší možnosti finanční podpory od úřad
 ů práce  \naktuality z činnosti ÚP ČR\, nové projekty EU (FLEXI\,
  Outplacement)\, zahraniční zaměstnanost (nutno zaslat dotazy předem n
 a email nvojtiskova@spcr.c\n\nČasový harmonogram\n\n09:30 – 10:00  Re
 gistrace účastníků\n10:00 – 11:00  1. Blok\n11:00 – 11:15  Přes
 távka\n11:15 – 12:1    2. Blok\n12:15 – 12:30 Závěr\n\nmoderáto
 r\n\nIng. Naďa Vojtíšková – Svaz průmyslu a dopravy ČR\nMgr. Hana 
 Svobodová – Úřad práce České republiky Krajská pobočka v Hradci
  Králové\nBc. Markéta Tilkeridu – Úřad práce České republiky Kr
 ajská pobočka v Hradci Králové\nBc. Jana Zemánková – Úřad prác
 e České republiky Krajská pobočka v Hradci Králové\nBc. Štěpánka 
 Ludvíková – Úřad práce České republiky Krajská pobočka v Hradc
 i Králové\n\n Registrace\n\n Na setkání se prosím přihlaste přes 
 online formulář ZDE nejpozději do 12. června 2022.\n\nV případě dot
 azů se prosím obraťte na regionální manažerku SP ČR\, Ing. Naďu Vo
 jtíškovou (tel: 733 643 520 nebo na e-mail: nvojtiskova@spcr.cz).\n
URL:https://www.spcr.cz/zamestnavani-osob-se-zdravotnim-postizenim
DTSTART:20220615T093000
DTEND:20220615T123000
LOCATION:
END:VEVENT
END:VCALENDAR
