BEGIN:VCALENDAR
PRODID:-//eluceo/ical//2.0/EN
VERSION:2.0
CALSCALE:GREGORIAN
BEGIN:VEVENT
UID:b6cdc70f279f619ee93e4741dbe710e4
DTSTAMP:20260423T231859Z
SUMMARY:Konference Tichomořská aliance - opportunities in renewables and 
 plastics
DESCRIPTION:Název akce: Konference Tichomořská aliance - opportunities i
 n renewables and plastics\nURL: https://www.spcr.cz/konference-tichomorska
 -aliance-opportunities-renewables-and-plastics\nPopis: \n\nPřijměte pozv
 ání na konferenci Tichomořská aliance - opportunities in renewables a
 nd plastics organizovanou Ministerstvem průmyslu a obchodu ve spolupráci
  s velvyslanectvími zemí Tichomořské aliance pro Českou republiku.\nK
 onference bude zaměřena především na sektor obnovitelných zdrojů en
 ergie a plastikářského průmyslu se zaměřením na nakládání s plas
 tovými odpady. Jejím hlavním cílem je představit příležitosti v t
 ěchto oborech v zemích Tichomořské aliance českým firmám.\nTichomo
 řská aliance zahrnuje Mexiko\, Chile\, Kolumbii a Peru. Česká republik
 a je v tomto uskupení pozorovatelem.\nJednací jazyk: angličtina\nVíce 
 informací a registrace\n
URL:https://www.spcr.cz/konference-tichomorska-aliance-opportunities-renewa
 bles-and-plastics
DTSTART:20220615T140000
DTEND:20220615T160000
LOCATION:
END:VEVENT
END:VCALENDAR
