BEGIN:VCALENDAR
PRODID:-//eluceo/ical//2.0/EN
VERSION:2.0
CALSCALE:GREGORIAN
BEGIN:VEVENT
UID:3ffdf14316ce3d63414b31894fa9c5e8
DTSTAMP:20260423T094801Z
SUMMARY:Recyklace jako šance na trvale udržitelný rozvoj
DESCRIPTION:Název akce: Recyklace jako šance na trvale udržitelný rozvo
 j\nURL: https://www.spcr.cz/recyklace-jako-sance-na-trvale-udrzitelny-rozv
 oj\nPopis: \n\nSvaz průmyslu a dopravy ČR vás spolu se společností DA
 IKIN zve na semniář\nRecyklace jako šance na trvale udržitelný rozvoj
 \nSeminář bude spojen s exkurzí do firmy DAIKIN v Plzni (vjezd brána
  č. 1\, blíže ulici Folmanovská). \nProgram\n09:00 – 9:10      
 Zahájení a úvodní slovo organizátora akce – P. Jonák\, Svaz průmy
 slu a dopravy ČR\n09:10 – 9:20      Představení firmy DAIKIN –
  J. Voch\, Daikin Industries Czech Republic \n09:20 – 11:00    Přísp
 ěvky hostů \n\n DAIKIN – Recyklace a regenerace chladiva v souvislost
 i s cirkulární ekonomikou\, T. Habel\n MŽP – Legislativní rámec a 
 plány k rozvoji cirkulární ekonomiky\, V. Kotrč\n SFŽP – Nástroje
  podpory rozvoje recyklace\, J. Manhart\n MPO – Role MPO v podpoře rec
 yklace\, možnosti dotační podpory\, P. Kulhánková\, P. Zdeněk\n TAČ
 R – Nástroje podpory výzkumu\, inovací M. Kuželková. Představení 
 projektu „POLYBET – Vývoj technologické linky pro materiálové vyu
 žití odpadních termoplastů a stavebních recyklátů ve výrobě stave
 bních prvků z polymerbetonu“\, J. John \n SCHP ČR – Chemická recy
 klace a krátké video s ukázkou termochemického využití odpadů\, J.
  Suchý \n CYRKL – Digitální odpadové tržiště\, V. Pilnáček\n AS
 OCIACE RECYKLÁTORŮ ELEKTROODPADU – Příklady recyklace v oblasti ele
 ktroodpadu\, A. Šrámek\nDELOITTE – Udržitelnost jako transformačn
 í impulz\, T. Babáček\n\n11:00 – 12:00    Diskuze – účastníc
 i se budou moci aktivně zapojit\, jak sdílením příkladů svých aktiv
 it\, tak možností vznést dotazy směrem na instituce\n12:00 – 12:45 
    Oběd\n12:45 – 14:00    Exkurze\n14:00 – 14:15    Závěr  
   \nREGISTRACE\n\nRegistrujte se prosím přes online formulář.\n\nDOPR
 AVA\n\nVlastní dopravou: parkování zajištěno v areálu firmy\nZdarma
  lze využít dopravu zajištěnou firmou Daikin a organizátorem akce Sva
 zem průmyslu a dopravy ČR ze zastávky Praha – Zličín\, sraz v 7:30
  h venku před vchodem do metra\n
URL:https://www.spcr.cz/recyklace-jako-sance-na-trvale-udrzitelny-rozvoj
DTSTART:20220628T090000
DTEND:20220628T141500
LOCATION:
END:VEVENT
END:VCALENDAR
