BEGIN:VCALENDAR
PRODID:-//eluceo/ical//2.0/EN
VERSION:2.0
CALSCALE:GREGORIAN
BEGIN:VEVENT
UID:7184b4bca3ecd2137b8f068847007818
DTSTAMP:20260423T192929Z
SUMMARY:JAK ÚSPĚŠNĚ OBCHODOVAT S NĚMECKEM (ČESKÉ BUDĚJOVICE)
DESCRIPTION:Název akce: JAK ÚSPĚŠNĚ OBCHODOVAT S NĚMECKEM (ČESKÉ BU
 DĚJOVICE)\nURL: https://www.spcr.cz/jak-uspesne-obchodovat-s-nemeckem-ces
 ke-budejovice\nPopis: \n\nZveme Vás na teritoriální seminář agentury 
 CzechTrade. Během semináře se dozvíte praktické informace pro české
  exportéry zajímající se o německý trh.\nProgram akce:(Registrace od
  09.30 hodin)\n\nPRAKTICKÉ A AKTUÁLNÍ INFORMACE\, RADY a TIPY NĚMECKÉ
 HO ZASTOUPENÍ CZECHTRADE – Kristýna Kubíčková a Alexandra Kuderjav
 á\nJak vyhledat německého obchodního partnera\nJak pracovat s databáz
 emi pro vyhledání německých partnerů\nJak oslovit německé společno
 sti\nPříprava podkladů pro prezentaci Vaši firmy na německém trhu\nO
 nline expanze na německý trh\nJak fungují obchodní zástupci v Německ
 u\nSlužby CzechTrade pro exportéry\n\nVíce informací a přihlášení 
 na akci zde. \n
URL:https://www.spcr.cz/jak-uspesne-obchodovat-s-nemeckem-ceske-budejovice
DTSTART:20220623T100000
DTEND:20220623T123000
LOCATION:
END:VEVENT
END:VCALENDAR
