BEGIN:VCALENDAR
PRODID:-//eluceo/ical//2.0/EN
VERSION:2.0
CALSCALE:GREGORIAN
BEGIN:VEVENT
UID:65ef05044da8826d5f093a0158758ebd
DTSTAMP:20260423T094833Z
SUMMARY:SKANDINÁVIE a POBALTÍ aneb jak prorazit na trhy severní Evropy
DESCRIPTION:Název akce: SKANDINÁVIE a POBALTÍ aneb jak prorazit na trhy 
 severní Evropy\nURL: https://www.spcr.cz/skandinavie-pobalti-aneb-jak-pro
 razit-na-trhy-severni-evropy\nPopis: \n\nPozvánka na exportní seminář 
 agentury CzechTrade ZAMĚŘENÝ NA OBCHODNÍ PŘÍLEŽITOSTI V ZEMÍCH SE
 VERNÍ EVROPY - ŠVÉDSKO\, FINSKO\, NORSKO\, DÁNSKO\, LOTYŠSKO\, LITVA\
 , ESTONSKO.\nProgram akce:(Registrace od 13.00 hodin)\n\nAktuální situac
 e na tamních trzích\nTipy na úspěšný export\nObchodní a kulturní z
 vyklosti\nOslovení potenciálního obchodního partnera\nOborové příle
 žitosti pro české podnikatele\nPrávní aspekty vstupu českých firem 
 na švédský trh a vysílání pracovníku z CR do Švédska\nPlánované
  akce CzechTrade\nDotazy\, diskuze\nIndividuální konzultace s řediteli 
 zahraničních kanceláří CzechTrade \n\nBližší informace a přihlá
 šení na akci zde. \n
URL:https://www.spcr.cz/skandinavie-pobalti-aneb-jak-prorazit-na-trhy-sever
 ni-evropy
DTSTART:20220613T133000
DTEND:20220613T153000
LOCATION:
END:VEVENT
END:VCALENDAR
