BEGIN:VCALENDAR
PRODID:-//eluceo/ical//2.0/EN
VERSION:2.0
CALSCALE:GREGORIAN
BEGIN:VEVENT
UID:cb81da80f35cecf18624ee2a79cbf0f8
DTSTAMP:20260423T125705Z
SUMMARY:Seminář k nástrojům Partnerství ČR a UNDP
DESCRIPTION:Název akce: Seminář k nástrojům Partnerství ČR a UNDP\nU
 RL: https://www.spcr.cz/seminar-k-nastrojum-partnerstvi-cr-undp\nPopis: \n
 \nDovolujeme si předat Vám pozvání Odboru rozvojové spolupráce a hum
 anitární pomoci MZV ČR a UNDP Istanbul Regional Hub na seminář k mož
 nostem podpory projektů s využitím nástrojů Partnerství České repu
 bliky s UNDP (Czech-UNDP Partnership for SDGs).   Seminář představí n
 ástroje Challenge Fund a Expertise on Demand\, které podporují implemen
 taci českých inovativních řešení v zahraničí. Akce je vhodná pro 
 subjekty ze soukromého sektoru\, univerzity\, výzkumná centra a nezisko
 vé organizace se zájmem realizovat projekty v prioritních zemích česk
 é rozvojové spolupráce (Bosna a Hercegovina\, Gruzie\, Moldavsko\, Etio
 pie\, Zambie\, Kambodža).   Akce proběhne 16. 6. od 9:00 do 11:00\, a to
  prezenčně v Černínském paláci (z důvodu omezené kapacity možnost
  prezenční účasti 1 osoby za organizaci) a online.   V příloze nalez
 nete předběžný program. V případě zájmu prosím zašlete svou regi
 straci nejpozději 14. 6. na tomto odkaze https://forms.microsoft.com/r/Y2
 QvPAzvuU\n
URL:https://www.spcr.cz/seminar-k-nastrojum-partnerstvi-cr-undp
DTSTART:20220616T090000
DTEND:20220616T110000
LOCATION:
END:VEVENT
END:VCALENDAR
