BEGIN:VCALENDAR
PRODID:-//eluceo/ical//2.0/EN
VERSION:2.0
CALSCALE:GREGORIAN
BEGIN:VEVENT
UID:1b0a96edf49b5fff3ad9d9bc8d1769d2
DTSTAMP:20260423T150038Z
SUMMARY:Den se zemědělským diplomatem v ČLR Ondřejem Plačkem
DESCRIPTION:Název akce: Den se zemědělským diplomatem v ČLR Ondřejem 
 Plačkem\nURL: https://www.spcr.cz/den-se-zemedelskym-diplomatem-v-clr-ond
 rejem-plackem\nPopis: \n\nZemědělský diplomat v Čínské lidové repub
 lice\, Mgr. Ondřej Plaček\, je připraven s Vámi prodiskutovat konkré
 tní témata\, která Vás z daného teritoria zajímají. Akci organizuj
 e Ministerstvo zemědělství ČR. \nINDIVIDUÁLNÍ KONZULTACE mají čas
 ovou dotaci á 20 min\, proběhnou na platformě MS Teams. Účast je zdar
 ma.\nV případě zájmu prosím pište do 30. 5. 2022 na email: zuzana.h
 ercikova@mze.cz a informujte o Vašem preferovaném časovém rozmezí. T
 aké můžete volat na tel. 221 812 868.\nPotvrzený termín schůzky a 
 odkaz pro přihlášení Vám sdělíme e-mailem nejpozději do tří dnů
  od zaslání Vašeho požadavku.\nPozvánku naleznete v přiloženém sou
 boru.\n
URL:https://www.spcr.cz/den-se-zemedelskym-diplomatem-v-clr-ondrejem-placke
 m
DTSTART:20220601T080000
DTEND:20220601T120000
LOCATION:
END:VEVENT
END:VCALENDAR
