BEGIN:VCALENDAR
PRODID:-//eluceo/ical//2.0/EN
VERSION:2.0
CALSCALE:GREGORIAN
BEGIN:VEVENT
UID:58e521acafd0471891c538d28c5ae151
DTSTAMP:20260423T125836Z
SUMMARY:Iran Smart City Expo and Conference 2022
DESCRIPTION:Název akce: Iran Smart City Expo and Conference 2022\nURL: htt
 ps://www.spcr.cz/iran-smart-city-expo-and-conference-2022\nPopis: \n\nVelv
 yslanectví Íránské islámské republiky v Praze zve  na 3. ročník k
 onference "Iran Smart City Expo and Conference 2022".\nPozvánka s odkazem
  na více informací\n
URL:https://www.spcr.cz/iran-smart-city-expo-and-conference-2022
DTSTART:20220703T000000
DTEND:20220705T235959
LOCATION:
END:VEVENT
END:VCALENDAR
