BEGIN:VCALENDAR
PRODID:-//eluceo/ical//2.0/EN
VERSION:2.0
CALSCALE:GREGORIAN
BEGIN:VEVENT
UID:ca98accb009fa1cb7e253aec4815b2ea
DTSTAMP:20260423T130412Z
SUMMARY:Webinář: Severní Makedonie - Investiční příležitosti nejen 
 v zemědělském sektoru
DESCRIPTION:Název akce: Webinář: Severní Makedonie - Investiční pří
 ležitosti nejen v zemědělském sektoru\nURL: https://www.spcr.cz/webina
 r-severni-makedonie-investicni-prilezitosti-nejen-v-zemedelskem-sektoru\nP
 opis: \n\nZveme Vás k účasti na webináři na téma:\n„Investiční 
 příležitosti nejen v zemědělském sektoru v Severní Makedonii“\n
 Republika Severní Makedonie představuje politicky stabilní\, zeměděls
 ky perspektivní region teritoriálně blízký České republice. Pro obc
 hod a zahraniční investice je důležité\, že Severní Makedonie je č
 lenem několika uskupení pro volný obchod a má s ČR uzavřenou dohodu 
 o ochraně investic. V ekonomických volných zónách nabízí S. Makedon
 ie jedinečné investiční podmínky a stojí za to se o nich dozvědět 
 více. Jejich prezentace odborníky Ředitelství volných zón Republiky 
 Severní Makedonie a popis jednotlivých výhod bude tvořit hlavní čás
 t webináře.\nWebinář proběhne prostřednictvím MS Teams v anglickém
  jazyce. Moderátorem webináře bude David Černohorský – konzul a obc
 hodní rada zastupitelského úřadu ČR ve Skopji.\nÚčast je zdarma. Z
 ájemci se mohou přihlásit na emailu: ondrej.misiaczek@mze.cz do 25. kv
 ětna 2022. Odkaz na akci Vám bude následně zaslán na Vaši emailovou 
 adresu.\nPozvánka s plánovaným programem\n
URL:https://www.spcr.cz/webinar-severni-makedonie-investicni-prilezitosti-n
 ejen-v-zemedelskem-sektoru
DTSTART:20220527T080000
DTEND:20220527T170000
LOCATION:
END:VEVENT
END:VCALENDAR
