BEGIN:VCALENDAR
PRODID:-//eluceo/ical//2.0/EN
VERSION:2.0
CALSCALE:GREGORIAN
BEGIN:VEVENT
UID:536251f8a0d460d30cb33abfd433bcdc
DTSTAMP:20260423T145940Z
SUMMARY:Pozvánka na online seminář k portálu Access2Markets (v češtin
 ě)
DESCRIPTION:Název akce: Pozvánka na online seminář k portálu Access2Ma
 rkets (v češtině)\nURL: https://www.spcr.cz/pozvanka-na-online-seminar-
 k-portalu-access2markets-v-cestine\nPopis: \n\nDovolujeme si Vám předat 
 pozvání Ministerstva průmyslu a obchodu na online seminář k portálu
  Access2Markets (A2M). Portál se stále zdokonaluje a oproti minulému se
 mináři k portálu A2M přibylo mnoho nových funkcí a informací\, nap
 ř. v části Služby a Investice či v části Veřejné zakázky (nás
 troj Access2Procurement).\nSeminář pořádaný Evropskou komisí se usku
 teční dne 1. 6. 2022 od 9-11 hodin. V rámci tohoto semináře Komise p
 ortál A2M představí\, včetně jeho částí týkajících se dovozů\,
  vývozů a překážek obchodu a bude se věnovat i nástrojům Single En
 try Point\, ROSA (Rules of Origin self-assesment) a Access2Procurement. Se
 minář proběhne v angličtině\, nicméně s tlumočením do češtiny.
  Detaily k semináři a i podrobnosti\, jak se na seminář přihlásit\, 
 naleznete přímo na tomto odkazu: https://trade.ec.europa.eu/access-to-ma
 rkets/en/content/events-access2markets.\n
URL:https://www.spcr.cz/pozvanka-na-online-seminar-k-portalu-access2markets
 -v-cestine
DTSTART:20220601T090000
DTEND:20220601T110000
LOCATION:
END:VEVENT
END:VCALENDAR
