BEGIN:VCALENDAR
PRODID:-//eluceo/ical//2.0/EN
VERSION:2.0
CALSCALE:GREGORIAN
BEGIN:VEVENT
UID:2e0c93452937508da9abcf5bbb798380
DTSTAMP:20260423T162819Z
SUMMARY:Veletrh HANNOVER MESSE 2022
DESCRIPTION:Název akce: Veletrh HANNOVER MESSE 2022\nURL: https://www.spcr
 .cz/veletrh-hannover-messe-2022\nPopis: \n\nDovolte\, abychom Vás pozvali
  k návštěvě veletrhu HANNOVER MESSE\, který se uskuteční od 30. 5. 
 do 2. 6. 2022 na výstavišti Hannoveru.\nInfo o veletrhu a slevě na vstu
 pné pro členy SP ČR\n
URL:https://www.spcr.cz/veletrh-hannover-messe-2022
DTSTART:20220530T080000
DTEND:20220602T170000
LOCATION:
END:VEVENT
END:VCALENDAR
