BEGIN:VCALENDAR
PRODID:-//eluceo/ical//2.0/EN
VERSION:2.0
CALSCALE:GREGORIAN
BEGIN:VEVENT
UID:4c093e009f8a9fc259ff83348c46286b
DTSTAMP:20260423T145806Z
SUMMARY:Konference CT: Jak uspět na BALKÁNSKÝCH trzích
DESCRIPTION:Název akce: Konference CT: Jak uspět na BALKÁNSKÝCH trzích
 \nURL: https://www.spcr.cz/konference-ct-jak-uspet-na-balkanskych-trzich\n
 Popis: \n\nKonference v Brně\nPŘEDNÁŠKY ŘEDITELŮ ZAHRANIČNÍCH KANC
 ELÁŘÍ CzechTrade – Albánie\, Bosna a Hercegovina\, Bulharsko\, Če
 rná Hora\, Chorvatsko\, Rumunsko\, Slovinsko\, Srbsko\n\nSoučasná situa
 ce na tamních trzích\nZákladní statistika\, makroekonomické údaje\nP
 erspektivní obory\, výzvy a příležitosti pro český export\nDoporuč
 ené kroky exportérům při vstupu na tamní trhy\, možnosti spoluprác
 e\nInterkulturní komunikace v obchodním jednání\nSlužby CzechTrade\nP
 lánované veletrhy a připravované akce\nDotazy\, diskuse s vystupujíc
 ími\n\nVíce informací a registrace\n
URL:https://www.spcr.cz/konference-ct-jak-uspet-na-balkanskych-trzich
DTSTART:20220531T123000
DTEND:20220531T153000
LOCATION:
END:VEVENT
END:VCALENDAR
