BEGIN:VCALENDAR
PRODID:-//eluceo/ical//2.0/EN
VERSION:2.0
CALSCALE:GREGORIAN
BEGIN:VEVENT
UID:dd82e84e3c45584c0a120c213a291b19
DTSTAMP:20260423T125029Z
SUMMARY:Global Industrie 2022
DESCRIPTION:Název akce: Global Industrie 2022\nURL: https://www.spcr.cz/gl
 obal-industrie-2022\nPopis: \n\nTímto bychom Vás chtěli pozvat na velet
 rh GLOBAL INDUSTRIE PARIS (globální místo setkání průmyslu)\, který
  se bude konat od 17. do 20. května v Paris Nord Villepinte.\n\nVeškeré
  informace o tomto veletrhu jsou dostupné na následujících lincích:\n
 Program veletrhu GLOBAL INDUSTRIE PARIS \nPro zahraniční návštěvníky
  veletrhu na výstavišti Villepinte je k dispozici tzv. World Room\, kte
 rá je v mezaninu haly 5\, u jižního vstupu - WELCOME WORLD ROOM\nBezpl
 atná registrace \nPro více informací prosím kontaktujte Marie Pragrov
 ú: pragrova@francouzskeveletrhy.cz\, +420 222 518 587\nGLOBAL_INDUSTRIE_
 2022_Informace_o_veletrhu.pdf\n \n \n
URL:https://www.spcr.cz/global-industrie-2022
DTSTART:20220517T103000
DTEND:20220520T140000
LOCATION:
END:VEVENT
END:VCALENDAR
