BEGIN:VCALENDAR
PRODID:-//eluceo/ical//2.0/EN
VERSION:2.0
CALSCALE:GREGORIAN
BEGIN:VEVENT
UID:d36adbab429480fbf37e5818bcf255cd
DTSTAMP:20260423T172819Z
SUMMARY:webinář MZe na téma "E-commerce ve vybraných zemích"
DESCRIPTION:Název akce: webinář MZe na téma "E-commerce ve vybraných z
 emích"\nURL: https://www.spcr.cz/webinar-mze-na-tema-e-commerce-ve-vybran
 ych-zemich\nPopis: \n\nVážení představitelé podnikatelské veřejnost
 i\, dovolujeme si Vás pozvat na webinář pořádaný Ministerstvem zem
 ědělství.Webinář se buda konat dne 19. května 2022 (čtvrtek) od 13:
 00 hod. SEČ a tématem je „E-COMMERCE ve vybraných zemích“\nZeměd
 ělští diplomaté a místní zástupci pro zemědělství Vám představ
 í informace o využívání e-commerce ve vybraných teritoriích (Čína
 \, Japonsko\, Vietnam\, SAE\, Libanon\, Srbsko\, USA\, Kazachstán - AJ\, 
 Velká Británie - AJ).Webinář proběhne prostřednictvím MS Teams v 
 českém a částečně v anglickém jazyce (AJ).\nZájemci o účast se 
 mohou přihlásit přes formulář.\nOdkaz na webinář Vám bude následn
 ě zaslán na Vaši emailovou adresu.\nBližší informace s programem nal
 eznete v pozvánce.\n
URL:https://www.spcr.cz/webinar-mze-na-tema-e-commerce-ve-vybranych-zemich
DTSTART:20220519T130000
DTEND:20220519T235959
LOCATION:
END:VEVENT
END:VCALENDAR
