BEGIN:VCALENDAR
PRODID:-//eluceo/ical//2.0/EN
VERSION:2.0
CALSCALE:GREGORIAN
BEGIN:VEVENT
UID:fc643e9a2c6d22b1a4822e0a2633f017
DTSTAMP:20260423T125530Z
SUMMARY:Aussie & Kiwi Wine Day
DESCRIPTION:Název akce: Aussie & Kiwi Wine Day\nURL: https://www.spcr.cz/a
 ussie-kiwi-wine-day\nPopis: \n\nDny protinožců\nAussie & Kiwi Wine Day  
 Srdečně Vás zveme na 1. ročník akce Dny protinožců\, jejíž souč
 ástí je B2B Wine Day.  Wine Day Wine Day je určen výhradně pro vinař
 e\, hoteliéry\, restauratéry\, velkoobchodníky a maloobchodníky vínem
  a další profesionály z oboru.  Představí se zde australští a novoz
 élandští vinaři\, distributoři a dovozci\, kteří nabídnou ta nejle
 pší novozélandská a australská vína\, která jsou aktuálně či pot
 enciálně k mání na českém trhu. Budete mít možnost ochutnat fantas
 tická vína\, seznámit se s vystavovateli a víno si od nich na místě 
 objednat.  V rámci dne proběhnou dvě Masterclass\, kterými Vás proved
 e Mick Kischer\, předseda zahraniční degustační soutěže Mundus Vini
 . První Masterclass v 11:30 se bude věnovat novozélandským vínům\, d
 ruhá ve 14:30 vínům australským.  Účast na Masterclass je omezena n
 a 20 míst\, proto neváhejte s registrací. Cena každé Master Class je 
 400 Kč.  Informace: Účast na akci je zdarma\, avšak vstup bude umožn
 ěn pouze po předchozí registraci prostřednictvím formuláře\, který
  naleznete na webové stránce www.dnyprotinozcu.cz\nDatum: Pátek 27. kv
 ětna 2022  Čas: 11:00-16:00 Místo Praha 1. Podrobnosti o místě koná
 ní Vám budou zaslány společně s potvrzením Vaší registrace.  Dotaz
 y a kontaktní údaje: info@dnyprotinozcu.cz\n
URL:https://www.spcr.cz/aussie-kiwi-wine-day
DTSTART:20220527T110000
DTEND:20220527T160000
LOCATION:
END:VEVENT
END:VCALENDAR
