BEGIN:VCALENDAR
PRODID:-//eluceo/ical//2.0/EN
VERSION:2.0
CALSCALE:GREGORIAN
BEGIN:VEVENT
UID:00c1703a16a40094e91dfd2131744294
DTSTAMP:20260423T130810Z
SUMMARY:Seminář: Alternativní trhy v kontextu ruské agrese proti Ukraji
 ně – Indie
DESCRIPTION:Název akce: Seminář: Alternativní trhy v kontextu ruské ag
 rese proti Ukrajině – Indie\nURL: https://www.spcr.cz/seminar-alternati
 vni-trhy-v-kontextu-ruske-agrese-proti-ukrajine-indie\nPopis: \n\nMinister
 stvo průmyslu a obchodu ČR zve na „Seminář: Alternativní trhy v k
 ontextu ruské agrese proti Ukrajině – Indie“\, který ve spolupráci
  s dalšími partnery pořádá Sekce zahraničního obchodu a EU. Akce se
  bude konat hybridně ve čtvrtek 19. května 2022 od 10:00 do 12:00 na MS
  TEAMS a v hlavní budově Ministerstva průmyslu a obchodu (MPO) na adr
 ese Na Františku 32\, Praha 1.\nJde o příspěvek do série exportních 
 seminářů MPO v kontextu války na Ukrajině. Tematicky jde o zaměřen
 í na vzdálenější\, nicméně velmi perspektivní trhy.\nProsíme\, ab
 yste svůj zájem o účast nahlásili na e-mailovou adresu: vrbensky@mpo.
 cz. V přihlášce\, prosím\, uveďte\, zda se budete účastnit fyzicky
 \, nebo on-line. Na uvedenou adresu se můžete rovněž obracet s příp
 adnými dotazy.\nUpozorňujeme\, že fyzická kapacita prostor akce je ome
 zena na 40 osob. V případě on-line registrace dostanete na Váš e-mai
 l link pro připojení nejpozději den před konáním akce.\nVystupujíc
 í:\n\nMgr. Jakub Jaroš\, vedoucí zahraničně ekonomického úseku ZÚ 
 Dillí\nIng. Libor Musil\, zástupce AMSP a předseda představenstva spol
 ečnosti LIKO-S holding\, a.s.\nIng. Ivan Kameník\, vedoucí zahraniční
  kanceláře CzechTrade v Bangalore\nIng. Luboš Ulč\, vedoucí zahrani
 ční kanceláře CzechTrade v Mumbaji\nIng. Štěpán Kolanda\, zástupc
 e ředitele Odboru pojištění vývozních úvěrů a investic\n\nV úvo
 du účastníky pozdraví velvyslanec Indie v Praze\, J. E. pan H. H. Kot
 alwar. Akci moderuje Richard Hlavatý\, ředitel odboru zahraničně ekono
 mických politik II\, MPO.  \nVaše dotazy\, které jsme obdrželi během
  předešlých seminářů i mimo ně\, již průběžně zpracováváme a
  kontaktujeme Vás telefonicky\, či je předáváme relevantním partner
 ům. Vybrané dotazy budeme zodpovídat i během nadcházejícího seminá
 ře. O dalších akcích a možnostech pomoci Vás budeme v následujíc
 ích týdnech informovat pomocí hromadné e-mailové korespondence\, jako
  je tato.\nPokud máte zájem o přidání kolegy či kolegyně na seznam 
 e-mailových adres (či jejich odebrání)\, napište\, prosím\, na adres
 u viktora@mpo.cz.\nPro připomenutí níže najdete odkaz na článek na w
 ebu MPO\, který shrnuje všechny klíčové informace\, záznamy a dokume
 nty z předchozích seminářů: https://www.mpo.cz/cz/zahranicni-obchod/
 mezinarodni-obchod-dle-teritorii/vychodni-evropa-a-stredni-asie/_ve-ctvrte
 k-od-dvou-do-ctyr_-mpo-porada-seminare-k-ruske-agresi-proti-ukrajine--2663
 75/.\nKontaktní osoba pro akci:Ing. Josef Vrbenskýoddělení Afriky\, As
 ie a Austrálieodbor zahraničně ekonomických politik IIvrbensky@mpo.cz
  \n
URL:https://www.spcr.cz/seminar-alternativni-trhy-v-kontextu-ruske-agrese-p
 roti-ukrajine-indie
DTSTART:20220519T100000
DTEND:20220519T120000
LOCATION:
END:VEVENT
END:VCALENDAR
