BEGIN:VCALENDAR
PRODID:-//eluceo/ical//2.0/EN
VERSION:2.0
CALSCALE:GREGORIAN
BEGIN:VEVENT
UID:9aaf01ac8666e82d24c58b8984cb6742
DTSTAMP:20260423T130400Z
SUMMARY:Online seminář: Jak uspět na evropských trzích – praktické 
 TIPY pro export
DESCRIPTION:Název akce: Online seminář: Jak uspět na evropských trzíc
 h – praktické TIPY pro export\nURL: https://www.spcr.cz/online-seminar-
 jak-uspet-na-evropskych-trzich-prakticke-tipy-pro-export\nPopis: \n\nOnlin
 e seminář zaměřený na praktické informace\, jak oslovit a získat z
 ákazníky z různých evropských trhů\, nejčastější chyby při prez
 entaci firmy\, ale i tipy pro správnou volbu exportních trhů – ŽIVĚ
 .Anotace:\n\nOslovení zahraničního klienta/obchodního partnera – úv
 odní komunikace (emailová\, telefonická)\nPříprava marketingových ma
 teriálů firmy\nDůležité úpravy webových stránek (jazyková mutace 
 apod.)\nPrezentace firmy při obchodním jednání\nTipy pro popis vaší 
 konkurenční výhody\nVolba správného trhu / trhů pro váš výrobek 
 či službu\nNáklady při vstupu na zahraniční trhy\nÚčast na veletrz
 ích \nA další tipy i nejčastější chyby při exportu\nOtázky a odp
 ovědi\n\nPraktické příklady se budou týkat různých zahraničních t
 rhů\, např. Německa\, Španělska\, Rumunska\, Rakouska\, balkánských
  zemí.Přednášejícími jsou bývalí ředitelé zahraničních kancel
 áří CzechTrade\, kteří mají bohaté zkušenosti s exportem na evrops
 ké trhy.\nMožnost registrace a více informací k dispozici zde.\n
URL:https://www.spcr.cz/online-seminar-jak-uspet-na-evropskych-trzich-prakt
 icke-tipy-pro-export
DTSTART:20220526T100000
DTEND:20220526T120000
LOCATION:
END:VEVENT
END:VCALENDAR
